BEGIN:VCALENDAR
VERSION:2.0
PRODID:-//Eventin//Event Calendar//EN
CALSCALE:GREGORIAN
METHOD:PUBLISH
BEGIN:VEVENT
UID:6229d62098bc1bbe648c6752b15fc816@activeilkley.org.uk
SUMMARY:Butterfly Walk - Wharfedale Naturalists’ Society
DESCRIPTION:[vc_row row_height_percent="0" override_padding="yes" h_padding
 ="2" top_padding="0" bottom_padding="0" back_color="color-lxmt" overlay_alp
 ha="50" gutter_size="4" column_width_percent="100" shift_y="0" z_index="0" 
 uncode_shortcode_id="897096" back_color_type="uncode-palette"][vc_column co
 lumn_width_percent="100" gutter_size="3" overlay_alpha="50" shift_x="0" shi
 ft_y="0" shift_y_down="0" z_index="0" medium_width="4" mobile_width="0" wid
 th="1/1" el_class="inverted-device-order"][vc_column_text uncode_shortcode_
 id="171027"]Thresfield Quarry Butterfly Walk- meet and park in the quarry 
 entrance at 10:30am.\n\nPlease ensure you contact the organiser before atte
 nding the event (web link below for further details)[/vc_column_text][vc_em
 pty_space empty_h="1"][vc_row_inner row_inner_height_percent="0" overlay_al
 pha="50" equal_height="yes" gutter_size="4" shift_y="0"][vc_column_inner co
 lumn_width_percent="100" align_horizontal="align_center" gutter_size="2" ov
 erlay_alpha="50" shift_x="0" shift_y="0" shift_y_down="0" z_index="0" mediu
 m_width="2" mobile_width="0" width="1/3" uncode_shortcode_id="193926"][vc_i
 con icon="fa fa-map3" icon_color="accent" size="fa-3x" text_size="h4" linke
 d_title="yes" align="left" title="Meet" link="url:%23|||" uncode_shortcode_
 id="202012" icon_color_type="uncode-palette"]Threshfield Quarry[/vc_icon][/
 vc_column_inner][vc_column_inner column_width_percent="100" align_horizonta
 l="align_center" gutter_size="2" overlay_alpha="50" shift_x="0" shift_y="0"
  shift_y_down="0" z_index="0" medium_width="2" mobile_width="0" width="1/3"
  uncode_shortcode_id="151410"][vc_icon icon="fa fa-clock" icon_color="accen
 t" size="fa-3x" text_size="h4" linked_title="yes" align="left" title="Time"
  link="url:%23|||" uncode_shortcode_id="919163" icon_color_type="uncode-pal
 ette"]10:30am[/vc_icon][/vc_column_inner][vc_column_inner column_width_perc
 ent="100" align_horizontal="align_center" gutter_size="2" overlay_alpha="50
 " shift_x="0" shift_y="0" shift_y_down="0" z_index="0" medium_width="2" mob
 ile_width="0" width="1/3" uncode_shortcode_id="838225"][vc_icon icon="fa fa
 -info-circle" icon_color="accent" size="fa-3x" text_size="h4" linked_title=
 "yes" align="left" title="More info" link="url:%23|||" uncode_shortcode_id=
 "535366" icon_color_type="uncode-palette"]Download PDF >[/vc_icon][/vc_colu
 mn_inner][/vc_row_inner][/vc_column][/vc_row]
LOCATION:Online
DTSTAMP:20260422T084457Z
DTSTART:20230708T093000Z
DTEND:20260422T113000Z
END:VEVENT
END:VCALENDAR
