BEGIN:VCALENDAR
VERSION:2.0
PRODID:-//Eventin//Event Calendar//EN
CALSCALE:GREGORIAN
METHOD:PUBLISH
BEGIN:VEVENT
UID:60a46c8866243487f38feddba7a2efdc@activeilkley.org.uk
SUMMARY:Rodley Nature Reserve - Wharfedale Naturalists’ Society
DESCRIPTION:[vc_row row_height_percent="0" override_padding="yes" h_padding
 ="2" top_padding="0" bottom_padding="0" back_color="color-lxmt" overlay_alp
 ha="50" gutter_size="4" column_width_percent="100" shift_y="0" z_index="0" 
 uncode_shortcode_id="897096" back_color_type="uncode-palette"][vc_column co
 lumn_width_percent="100" gutter_size="3" overlay_alpha="50" shift_x="0" shi
 ft_y="0" shift_y_down="0" z_index="0" medium_width="4" mobile_width="0" wid
 th="1/1" el_class="inverted-device-order"][vc_column_text uncode_shortcode_
 id="128266"]Rodley Nature Reserve- meet at the reserve at 10am\n\nPlease en
 sure you contact the organiser before attending the event (web link below f
 or further details)[/vc_column_text][vc_empty_space empty_h="1"][vc_row_inn
 er row_inner_height_percent="0" overlay_alpha="50" equal_height="yes" gutte
 r_size="4" shift_y="0"][vc_column_inner column_width_percent="100" align_ho
 rizontal="align_center" gutter_size="2" overlay_alpha="50" shift_x="0" shif
 t_y="0" shift_y_down="0" z_index="0" medium_width="2" mobile_width="0" widt
 h="1/3" uncode_shortcode_id="193926"][vc_icon icon="fa fa-map3" icon_color=
 "accent" size="fa-3x" text_size="h4" linked_title="yes" align="left" title=
 "Meet" link="url:%23|||" uncode_shortcode_id="200621" icon_color_type="unco
 de-palette"]Rodley Nature Reserve[/vc_icon][/vc_column_inner][vc_column_inn
 er column_width_percent="100" align_horizontal="align_center" gutter_size="
 2" overlay_alpha="50" shift_x="0" shift_y="0" shift_y_down="0" z_index="0" 
 medium_width="2" mobile_width="0" width="1/3" uncode_shortcode_id="151410"]
 [vc_icon icon="fa fa-clock" icon_color="accent" size="fa-3x" text_size="h4"
  linked_title="yes" align="left" title="Time" link="url:%23|||" uncode_shor
 tcode_id="854097" icon_color_type="uncode-palette"]10:00am[/vc_icon][/vc_co
 lumn_inner][vc_column_inner column_width_percent="100" align_horizontal="al
 ign_center" gutter_size="2" overlay_alpha="50" shift_x="0" shift_y="0" shif
 t_y_down="0" z_index="0" medium_width="2" mobile_width="0" width="1/3" unco
 de_shortcode_id="838225"][vc_icon icon="fa fa-info-circle" icon_color="acce
 nt" size="fa-3x" text_size="h4" linked_title="yes" align="left" title="More
  info" link="url:%23|||" uncode_shortcode_id="535366" icon_color_type="unco
 de-palette"]Download PDF >[/vc_icon][/vc_column_inner][/vc_row_inner][/vc_c
 olumn][/vc_row]
LOCATION:Online
DTSTAMP:20260422T045244Z
DTSTART:20230711T090000Z
DTEND:20260422T110000Z
END:VEVENT
END:VCALENDAR
