BEGIN:VCALENDAR
VERSION:2.0
PRODID:-//Eventin//Event Calendar//EN
CALSCALE:GREGORIAN
METHOD:PUBLISH
BEGIN:VEVENT
UID:15d9f504234ef3363e49f048b2dbb387@activeilkley.org.uk
SUMMARY:Weybecks Pasture Survey - Wharfedale Naturalists’ Society
DESCRIPTION:[vc_row row_height_percent="0" override_padding="yes" h_padding
 ="2" top_padding="0" bottom_padding="0" back_color="color-lxmt" overlay_alp
 ha="50" gutter_size="4" column_width_percent="100" shift_y="0" z_index="0" 
 uncode_shortcode_id="897096" back_color_type="uncode-palette"][vc_column co
 lumn_width_percent="100" gutter_size="3" overlay_alpha="50" shift_x="0" shi
 ft_y="0" shift_y_down="0" z_index="0" medium_width="4" mobile_width="0" wid
 th="1/1" el_class="inverted-device-order"][vc_column_text uncode_shortcode_
 id="147482"]Weybecks Pasture Survey- meet at 10am in the layby Arncliffe R
 oad junction.\n\nPlease ensure you contact the organiser before attending t
 he event (web link below for further details)[/vc_column_text][vc_empty_spa
 ce empty_h="1"][vc_row_inner row_inner_height_percent="0" overlay_alpha="50
 " equal_height="yes" gutter_size="4" shift_y="0"][vc_column_inner column_wi
 dth_percent="100" align_horizontal="align_center" gutter_size="2" overlay_a
 lpha="50" shift_x="0" shift_y="0" shift_y_down="0" z_index="0" medium_width
 ="2" mobile_width="0" width="1/3" uncode_shortcode_id="193926"][vc_icon ico
 n="fa fa-map3" icon_color="accent" size="fa-3x" text_size="h4" linked_title
 ="yes" align="left" title="Meet" link="url:%23|||" uncode_shortcode_id="365
 284" icon_color_type="uncode-palette"]Arncliffe Road junction[/vc_icon][/vc
 _column_inner][vc_column_inner column_width_percent="100" align_horizontal=
 "align_center" gutter_size="2" overlay_alpha="50" shift_x="0" shift_y="0" s
 hift_y_down="0" z_index="0" medium_width="2" mobile_width="0" width="1/3" u
 ncode_shortcode_id="151410"][vc_icon icon="fa fa-clock" icon_color="accent"
  size="fa-3x" text_size="h4" linked_title="yes" align="left" title="Time" l
 ink="url:%23|||" uncode_shortcode_id="387172" icon_color_type="uncode-palet
 te"]10:00am[/vc_icon][/vc_column_inner][vc_column_inner column_width_percen
 t="100" align_horizontal="align_center" gutter_size="2" overlay_alpha="50" 
 shift_x="0" shift_y="0" shift_y_down="0" z_index="0" medium_width="2" mobil
 e_width="0" width="1/3" uncode_shortcode_id="838225"][vc_icon icon="fa fa-i
 nfo-circle" icon_color="accent" size="fa-3x" text_size="h4" linked_title="y
 es" align="left" title="More info" link="url:%23|||" uncode_shortcode_id="5
 35366" icon_color_type="uncode-palette"]Download PDF >[/vc_icon][/vc_column
 _inner][/vc_row_inner][/vc_column][/vc_row]
LOCATION:Online
DTSTAMP:20260422T045754Z
DTSTART:20230713T090000Z
DTEND:20260422T110000Z
END:VEVENT
END:VCALENDAR
