BEGIN:VCALENDAR
VERSION:2.0
PRODID:-//Eventin//Event Calendar//EN
CALSCALE:GREGORIAN
METHOD:PUBLISH
BEGIN:VEVENT
UID:5c61d2836b5c87b212cae9855002f7d9@activeilkley.org.uk
SUMMARY:The Geology of Crummack Dale - Wharfedale Naturalists’ Society
DESCRIPTION:[vc_row row_height_percent="0" override_padding="yes" h_padding
 ="2" top_padding="0" bottom_padding="0" back_color="color-lxmt" overlay_alp
 ha="50" gutter_size="4" column_width_percent="100" shift_y="0" z_index="0" 
 uncode_shortcode_id="897096" back_color_type="uncode-palette"][vc_column co
 lumn_width_percent="100" gutter_size="3" overlay_alpha="50" shift_x="0" shi
 ft_y="0" shift_y_down="0" z_index="0" medium_width="4" mobile_width="0" wid
 th="1/1" el_class="inverted-device-order"][vc_column_text uncode_shortcode_
 id="525831"]The Geology of Crummack Dale- meet/park at Austwick school at 
 1:30pm.\n\nPlease ensure you contact the organiser before attending the eve
 nt (web link below for further details)[/vc_column_text][vc_empty_space emp
 ty_h="1"][vc_row_inner row_inner_height_percent="0" overlay_alpha="50" equa
 l_height="yes" gutter_size="4" shift_y="0"][vc_column_inner column_width_pe
 rcent="100" align_horizontal="align_center" gutter_size="2" overlay_alpha="
 50" shift_x="0" shift_y="0" shift_y_down="0" z_index="0" medium_width="2" m
 obile_width="0" width="1/3" uncode_shortcode_id="193926"][vc_icon icon="fa 
 fa-map3" icon_color="accent" size="fa-3x" text_size="h4" linked_title="yes"
  align="left" title="Meet" link="url:%23|||" uncode_shortcode_id="145467" i
 con_color_type="uncode-palette"]Austwick school[/vc_icon][/vc_column_inner]
 [vc_column_inner column_width_percent="100" align_horizontal="align_center"
  gutter_size="2" overlay_alpha="50" shift_x="0" shift_y="0" shift_y_down="0
 " z_index="0" medium_width="2" mobile_width="0" width="1/3" uncode_shortcod
 e_id="151410"][vc_icon icon="fa fa-clock" icon_color="accent" size="fa-3x" 
 text_size="h4" linked_title="yes" align="left" title="Time" link="url:%23||
 |" uncode_shortcode_id="214662" icon_color_type="uncode-palette"]1:30pm[/vc
 _icon][/vc_column_inner][vc_column_inner column_width_percent="100" align_h
 orizontal="align_center" gutter_size="2" overlay_alpha="50" shift_x="0" shi
 ft_y="0" shift_y_down="0" z_index="0" medium_width="2" mobile_width="0" wid
 th="1/3" uncode_shortcode_id="838225"][vc_icon icon="fa fa-info-circle" ico
 n_color="accent" size="fa-3x" text_size="h4" linked_title="yes" align="left
 " title="More info" link="url:%23|||" uncode_shortcode_id="535366" icon_col
 or_type="uncode-palette"]Download PDF >[/vc_icon][/vc_column_inner][/vc_row
 _inner][/vc_column][/vc_row]
LOCATION:Online
DTSTAMP:20260422T045754Z
DTSTART:20230715T123000Z
DTEND:20260422T163000Z
END:VEVENT
END:VCALENDAR
