BEGIN:VCALENDAR
VERSION:2.0
PRODID:-//Eventin//Event Calendar//EN
CALSCALE:GREGORIAN
METHOD:PUBLISH
BEGIN:VEVENT
UID:9a12e2c2bcbd42b95e31bbc331e4ea2f@activeilkley.org.uk
SUMMARY:Improve Your Skills- Butterflies - Wharfedale Naturalists’ Societ
 y
DESCRIPTION:[vc_row row_height_percent="0" override_padding="yes" h_padding
 ="2" top_padding="0" bottom_padding="0" back_color="color-lxmt" overlay_alp
 ha="50" gutter_size="4" column_width_percent="100" shift_y="0" z_index="0" 
 uncode_shortcode_id="897096" back_color_type="uncode-palette"][vc_column co
 lumn_width_percent="100" gutter_size="3" overlay_alpha="50" shift_x="0" shi
 ft_y="0" shift_y_down="0" z_index="0" medium_width="4" mobile_width="0" wid
 th="1/1" el_class="inverted-device-order"][vc_column_text uncode_shortcode_
 id="380319"]Improve Your Skills- Butterflies- meet at Sun Lane Nature Reser
 ve at 1pm. Good for a wide range of species. Bring your binoculars.\n\nPlea
 se ensure you contact the organiser before attending the event (web link be
 low for further details)[/vc_column_text][vc_empty_space empty_h="1"][vc_ro
 w_inner row_inner_height_percent="0" overlay_alpha="50" equal_height="yes" 
 gutter_size="4" shift_y="0"][vc_column_inner column_width_percent="100" ali
 gn_horizontal="align_center" gutter_size="2" overlay_alpha="50" shift_x="0"
  shift_y="0" shift_y_down="0" z_index="0" medium_width="2" mobile_width="0"
  width="1/3" uncode_shortcode_id="193926"][vc_icon icon="fa fa-map3" icon_c
 olor="accent" size="fa-3x" text_size="h4" linked_title="yes" align="left" t
 itle="Meet" link="url:%23|||" uncode_shortcode_id="103694" icon_color_type=
 "uncode-palette"]Sun Lane Nature Reserve[/vc_icon][/vc_column_inner][vc_col
 umn_inner column_width_percent="100" align_horizontal="align_center" gutter
 _size="2" overlay_alpha="50" shift_x="0" shift_y="0" shift_y_down="0" z_ind
 ex="0" medium_width="2" mobile_width="0" width="1/3" uncode_shortcode_id="1
 51410"][vc_icon icon="fa fa-clock" icon_color="accent" size="fa-3x" text_si
 ze="h4" linked_title="yes" align="left" title="Time" link="url:%23|||" unco
 de_shortcode_id="744836" icon_color_type="uncode-palette"]1pm[/vc_icon][/vc
 _column_inner][vc_column_inner column_width_percent="100" align_horizontal=
 "align_center" gutter_size="2" overlay_alpha="50" shift_x="0" shift_y="0" s
 hift_y_down="0" z_index="0" medium_width="2" mobile_width="0" width="1/3" u
 ncode_shortcode_id="838225"][vc_icon icon="fa fa-info-circle" icon_color="a
 ccent" size="fa-3x" text_size="h4" linked_title="yes" align="left" title="M
 ore info" link="url:%23|||" uncode_shortcode_id="535366" icon_color_type="u
 ncode-palette"]Download PDF >[/vc_icon][/vc_column_inner][/vc_row_inner][/v
 c_column][/vc_row]
LOCATION:Online
DTSTAMP:20260422T045346Z
DTSTART:20230805T120000Z
DTEND:20260422T140000Z
END:VEVENT
END:VCALENDAR
