BEGIN:VCALENDAR
VERSION:2.0
PRODID:-//Eventin//Event Calendar//EN
CALSCALE:GREGORIAN
METHOD:PUBLISH
BEGIN:VEVENT
UID:706759d9d1c6486f3e163cf27d78e0f3@activeilkley.org.uk
SUMMARY:Leisurely to Moderate (7miles)- Lower Wharfedale Ramblers
DESCRIPTION:[vc_row row_height_percent="0" override_padding="yes" h_padding
 ="2" top_padding="0" bottom_padding="0" back_color="color-lxmt" overlay_alp
 ha="50" gutter_size="4" column_width_percent="100" shift_y="0" z_index="0" 
 uncode_shortcode_id="897096" back_color_type="uncode-palette"][vc_column co
 lumn_width_percent="100" gutter_size="3" overlay_alpha="50" shift_x="0" shi
 ft_y="0" shift_y_down="0" z_index="0" medium_width="4" mobile_width="0" wid
 th="1/1" el_class="inverted-device-order"][vc_column_text uncode_shortcode_
 id="155601"]This is a weekly walk is a leisurely to moderate walk that will
  be 7 miles long. New walkers are welcome. Please follow the link to their 
 website to register your place on the walk.[/vc_column_text][vc_empty_space
  empty_h="1"][vc_row_inner row_inner_height_percent="0" overlay_alpha="50" 
 equal_height="yes" gutter_size="4" shift_y="0"][vc_column_inner column_widt
 h_percent="100" align_horizontal="align_center" gutter_size="2" overlay_alp
 ha="50" shift_x="0" shift_y="0" shift_y_down="0" z_index="0" medium_width="
 2" mobile_width="0" width="1/3" uncode_shortcode_id="193926"][vc_icon icon=
 "fa fa-map3" icon_color="accent" size="fa-3x" text_size="h4" linked_title="
 yes" align="left" title="Meet" link="url:%23|||" uncode_shortcode_id="15778
 0" icon_color_type="uncode-palette"]Gargrave – Green Bank – Ingthorpe G
 range[/vc_icon][/vc_column_inner][vc_column_inner column_width_percent="100
 " align_horizontal="align_center" gutter_size="2" overlay_alpha="50" shift_
 x="0" shift_y="0" shift_y_down="0" z_index="0" medium_width="2" mobile_widt
 h="0" width="1/3" uncode_shortcode_id="151410"][vc_icon icon="fa fa-clock" 
 icon_color="accent" size="fa-3x" text_size="h4" linked_title="yes" align="l
 eft" title="Time" link="url:%23|||" uncode_shortcode_id="101052" icon_color
 _type="uncode-palette"]10:30am[/vc_icon][/vc_column_inner][vc_column_inner 
 column_width_percent="100" align_horizontal="align_center" gutter_size="2" 
 overlay_alpha="50" shift_x="0" shift_y="0" shift_y_down="0" z_index="0" med
 ium_width="2" mobile_width="0" width="1/3" uncode_shortcode_id="838225"][vc
 _icon icon="fa fa-info-circle" icon_color="accent" size="fa-3x" text_size="
 h4" linked_title="yes" align="left" title="More info" link="url:%23|||" unc
 ode_shortcode_id="621715" icon_color_type="uncode-palette"]Visit website >[
 /vc_icon][/vc_column_inner][/vc_row_inner][/vc_column][/vc_row]
LOCATION:Online
DTSTAMP:20260422T031321Z
DTSTART:20230704T093000Z
DTEND:20260422T113000Z
END:VEVENT
END:VCALENDAR
