BEGIN:VCALENDAR
VERSION:2.0
PRODID:-//Eventin//Event Calendar//EN
CALSCALE:GREGORIAN
METHOD:PUBLISH
BEGIN:VEVENT
UID:8c9cd926dee41da0304129b669efd534@activeilkley.org.uk
SUMMARY:W.E. Forster Summer Festival Walk- Burley Walkers are Welcome
DESCRIPTION:[vc_row row_height_percent="0" override_padding="yes" h_padding
 ="2" top_padding="0" bottom_padding="0" back_color="color-lxmt" overlay_alp
 ha="50" gutter_size="4" column_width_percent="100" shift_y="0" z_index="0" 
 uncode_shortcode_id="897096" back_color_type="uncode-palette"][vc_column co
 lumn_width_percent="100" gutter_size="3" overlay_alpha="50" shift_x="0" shi
 ft_y="0" shift_y_down="0" z_index="0" medium_width="4" mobile_width="0" wid
 th="1/1" el_class="inverted-device-order"][vc_column_text uncode_shortcode_
 id="199306"]William E. Forster is perhaps one of Burley’s most well-known
  residents. He made a lasting impact on how the village prospered and devel
 oped in the late 19th Century. He was also an influential politician both n
 ationally and internationally. The walking route will pass many of the buil
 dings that form part of Forster’s local legacy\, including Wharfeside\, t
 he home he built\, the Queen’s Hall and Greenholme Mill before finishing 
 at his grave at God’s Acre\, Bradford Road. En route we will hear about h
 is life and achievements on both the local and national stage. The walk wil
 l be at a leisurely pace along lanes\, tracks and roadside paths.\n\nBookin
 g Required with Walkers are Welcome.[/vc_column_text][vc_empty_space empty_
 h="1"][vc_row_inner row_inner_height_percent="0" overlay_alpha="50" equal_h
 eight="yes" gutter_size="4" shift_y="0"][vc_column_inner column_width_perce
 nt="100" align_horizontal="align_center" gutter_size="2" overlay_alpha="50"
  shift_x="0" shift_y="0" shift_y_down="0" z_index="0" medium_width="2" mobi
 le_width="0" width="1/3" uncode_shortcode_id="193926"][vc_icon icon="fa fa-
 map3" icon_color="accent" size="fa-3x" text_size="h4" linked_title="yes" al
 ign="left" title="Meet" link="url:%23|||" uncode_shortcode_id="517387" icon
 _color_type="uncode-palette"]Round House\, Grange Park[/vc_icon][/vc_column
 _inner][vc_column_inner column_width_percent="100" align_horizontal="align_
 center" gutter_size="2" overlay_alpha="50" shift_x="0" shift_y="0" shift_y_
 down="0" z_index="0" medium_width="2" mobile_width="0" width="1/3" uncode_s
 hortcode_id="151410"][vc_icon icon="fa fa-clock" icon_color="accent" size="
 fa-3x" text_size="h4" linked_title="yes" align="left" title="Time" link="ur
 l:%23|||" uncode_shortcode_id="138841" icon_color_type="uncode-palette"]10a
 m-1pm[/vc_icon][/vc_column_inner][vc_column_inner column_width_percent="100
 " align_horizontal="align_center" gutter_size="2" overlay_alpha="50" shift_
 x="0" shift_y="0" shift_y_down="0" z_index="0" medium_width="2" mobile_widt
 h="0" width="1/3" uncode_shortcode_id="838225"][vc_icon icon="fa fa-info-ci
 rcle" icon_color="accent" size="fa-3x" text_size="h4" linked_title="yes" al
 ign="left" title="More info" link="url:%23|||" uncode_shortcode_id="204149"
  icon_color_type="uncode-palette"]Visit website >[/vc_icon][/vc_column_inne
 r][/vc_row_inner][/vc_column][/vc_row]
LOCATION:Online
DTSTAMP:20260422T031321Z
DTSTART:20230819T090000Z
DTEND:20260422T120000Z
END:VEVENT
END:VCALENDAR
