BEGIN:VCALENDAR
VERSION:2.0
PRODID:-//Eventin//Event Calendar//EN
CALSCALE:GREGORIAN
METHOD:PUBLISH
BEGIN:VEVENT
UID:e295029fad482fd47e5a90879e0d6aa2@activeilkley.org.uk
SUMMARY:Hawk &amp\; Heath- Forest Bathing
DESCRIPTION:[vc_row row_height_percent="0" override_padding="yes" h_padding
 ="2" top_padding="0" bottom_padding="0" back_color="color-lxmt" overlay_alp
 ha="50" gutter_size="4" column_width_percent="100" shift_y="0" z_index="0" 
 uncode_shortcode_id="897096" back_color_type="uncode-palette"][vc_column co
 lumn_width_percent="100" gutter_size="3" overlay_alpha="50" shift_x="0" shi
 ft_y="0" shift_y_down="0" z_index="0" medium_width="4" mobile_width="0" wid
 th="1/1" el_class="inverted-device-order"][vc_column_text uncode_shortcode_
 id="167527"]Forest bathing at Curly Hill\, Ilkley. Join us for a autumnal f
 orest bathing session. Your guide\, Robert will help to deepen your connect
 ion with nature by inviting you on a series of activities to use all of you
 r senses to tune in to the world around you. This peaceful journey will als
 o let you know the science behind why a daily nature connection is so vital
  for our health and wellbeing.\n\nMeet at woodland entrance on Curly Hill.\
 n\n£10\n\nVisit website to book your place>[/vc_column_text][vc_empty_spac
 e empty_h="1"][vc_row_inner row_inner_height_percent="0" overlay_alpha="50"
  equal_height="yes" gutter_size="4" shift_y="0"][vc_column_inner column_wid
 th_percent="100" align_horizontal="align_center" gutter_size="2" overlay_al
 pha="50" shift_x="0" shift_y="0" shift_y_down="0" z_index="0" medium_width=
 "2" mobile_width="0" width="1/3" uncode_shortcode_id="193926"][vc_icon icon
 ="fa fa-map3" icon_color="accent" size="fa-3x" text_size="h4" linked_title=
 "yes" align="left" title="Meet" link="url:%23|||" uncode_shortcode_id="1696
 16" icon_color_type="uncode-palette"]Curly Hill woodland entrance[/vc_icon]
 [/vc_column_inner][vc_column_inner column_width_percent="100" align_horizon
 tal="align_center" gutter_size="2" overlay_alpha="50" shift_x="0" shift_y="
 0" shift_y_down="0" z_index="0" medium_width="2" mobile_width="0" width="1/
 3" uncode_shortcode_id="151410"][vc_icon icon="fa fa-clock" icon_color="acc
 ent" size="fa-3x" text_size="h4" linked_title="yes" align="left" title="Tim
 e" link="url:%23|||" uncode_shortcode_id="105282" icon_color_type="uncode-p
 alette"]6-8pm[/vc_icon][/vc_column_inner][vc_column_inner column_width_perc
 ent="100" align_horizontal="align_center" gutter_size="2" overlay_alpha="50
 " shift_x="0" shift_y="0" shift_y_down="0" z_index="0" medium_width="2" mob
 ile_width="0" width="1/3" uncode_shortcode_id="838225"][vc_icon icon="fa fa
 -info-circle" icon_color="accent" size="fa-3x" text_size="h4" linked_title=
 "yes" align="left" title="More info" link="url:%23|||" uncode_shortcode_id=
 "391137" icon_color_type="uncode-palette"]Visit website >[/vc_icon][/vc_col
 umn_inner][/vc_row_inner][/vc_column][/vc_row]
LOCATION:Online
DTSTAMP:20260419T125426Z
DTSTART:20231003T170000Z
DTEND:20260419T190000Z
END:VEVENT
END:VCALENDAR
