BEGIN:VCALENDAR
VERSION:2.0
PRODID:-//Eventin//Event Calendar//EN
CALSCALE:GREGORIAN
METHOD:PUBLISH
BEGIN:VEVENT
UID:21061387ff2e07bb1c98c57de27f19a6@activeilkley.org.uk
SUMMARY:Active Travel Talk
DESCRIPTION:[vc_row row_height_percent="0" override_padding="yes" h_padding
 ="2" top_padding="0" bottom_padding="0" back_color="color-lxmt" overlay_alp
 ha="50" gutter_size="4" column_width_percent="100" shift_y="0" z_index="0" 
 uncode_shortcode_id="897096" back_color_type="uncode-palette"][vc_column co
 lumn_width_percent="100" gutter_size="3" overlay_alpha="50" shift_x="0" shi
 ft_y="0" shift_y_down="0" z_index="0" medium_width="4" mobile_width="0" wid
 th="1/1" el_class="inverted-device-order"][vc_column_text uncode_shortcode_
 id="140432"]Learn about how to get more active with the Ilkley Active Trave
 l Hub. Come along to our talk about how we can support you to get out and a
 bout more.\n\nEither email sue.moorchild@bradford.nhs.uk to confirm your at
 tendance or contact us here info@activeilkley.org.uk[/vc_column_text][vc_em
 pty_space empty_h="1"][vc_row_inner row_inner_height_percent="0" overlay_al
 pha="50" equal_height="yes" gutter_size="4" shift_y="0"][vc_column_inner co
 lumn_width_percent="100" align_horizontal="align_center" gutter_size="2" ov
 erlay_alpha="50" shift_x="0" shift_y="0" shift_y_down="0" z_index="0" mediu
 m_width="2" mobile_width="0" width="1/3" uncode_shortcode_id="193926"][vc_i
 con icon="fa fa-map3" icon_color="accent" size="fa-3x" text_size="h4" linke
 d_title="yes" align="left" title="Meet" link="url:%23|||" uncode_shortcode_
 id="104863" icon_color_type="uncode-palette"]Conference room\, Springs Lane
  Medical Centre[/vc_icon][/vc_column_inner][vc_column_inner column_width_pe
 rcent="100" align_horizontal="align_center" gutter_size="2" overlay_alpha="
 50" shift_x="0" shift_y="0" shift_y_down="0" z_index="0" medium_width="2" m
 obile_width="0" width="1/3" uncode_shortcode_id="151410"][vc_icon icon="fa 
 fa-clock" icon_color="accent" size="fa-3x" text_size="h4" linked_title="yes
 " align="left" title="Time" link="url:%23|||" uncode_shortcode_id="994210" 
 icon_color_type="uncode-palette"]6pm[/vc_icon][/vc_column_inner][vc_column_
 inner column_width_percent="100" align_horizontal="align_center" gutter_siz
 e="2" overlay_alpha="50" shift_x="0" shift_y="0" shift_y_down="0" z_index="
 0" medium_width="2" mobile_width="0" width="1/3" uncode_shortcode_id="83822
 5"][/vc_column_inner][/vc_row_inner][/vc_column][/vc_row]
LOCATION:Online
DTSTAMP:20260419T125302Z
DTSTART:20231003T170000Z
DTEND:20260419T180000Z
END:VEVENT
END:VCALENDAR
