BEGIN:VCALENDAR
VERSION:2.0
PRODID:-//Eventin//Event Calendar//EN
CALSCALE:GREGORIAN
METHOD:PUBLISH
BEGIN:VEVENT
UID:69a1e2198959e23e153e2a257bdf4f56@activeilkley.org.uk
SUMMARY:Menopause Workshop
DESCRIPTION:[vc_row row_height_percent="0" override_padding="yes" h_padding
 ="2" top_padding="0" bottom_padding="0" back_color="color-lxmt" overlay_alp
 ha="50" gutter_size="4" column_width_percent="100" shift_y="0" z_index="0" 
 uncode_shortcode_id="897096" back_color_type="uncode-palette"][vc_column co
 lumn_width_percent="100" gutter_size="3" overlay_alpha="50" shift_x="0" shi
 ft_y="0" shift_y_down="0" z_index="0" medium_width="4" mobile_width="0" wid
 th="1/1" el_class="inverted-device-order"][vc_column_text uncode_shortcode_
 id="153983"]\n35+ woman looking to take control of your health?\nLearn how 
 to eat and train to support your health through perimenopause\, menopause a
 nd beyond.\n\n\n 	1h educational & Q&A session focussed on nutrition\n 	1h 
 movement session: resistance training & pilates\n 	Goodie bag to take away\
 n\n£40[/vc_column_text][vc_empty_space empty_h="1"][vc_row_inner row_inner
 _height_percent="0" overlay_alpha="50" equal_height="yes" gutter_size="4" s
 hift_y="0"][vc_column_inner column_width_percent="100" align_horizontal="al
 ign_center" gutter_size="2" overlay_alpha="50" shift_x="0" shift_y="0" shif
 t_y_down="0" z_index="0" medium_width="2" mobile_width="0" width="1/3" unco
 de_shortcode_id="193926"][vc_icon icon="fa fa-map3" icon_color="accent" siz
 e="fa-3x" text_size="h4" linked_title="yes" align="left" title="Meet" link=
 "url:%23|||" uncode_shortcode_id="467977" icon_color_type="uncode-palette"]
 Ilkley Lawn Tennis & Squash Club[/vc_icon][/vc_column_inner][vc_column_inne
 r column_width_percent="100" align_horizontal="align_center" gutter_size="2
 " overlay_alpha="50" shift_x="0" shift_y="0" shift_y_down="0" z_index="0" m
 edium_width="2" mobile_width="0" width="1/3" uncode_shortcode_id="151410"][
 vc_icon icon="fa fa-clock" icon_color="accent" size="fa-3x" text_size="h4" 
 linked_title="yes" align="left" title="Time" link="url:%23|||" uncode_short
 code_id="753986" icon_color_type="uncode-palette"]2pm-4:30pm[/vc_icon][/vc_
 column_inner][vc_column_inner column_width_percent="100" align_horizontal="
 align_center" gutter_size="2" overlay_alpha="50" shift_x="0" shift_y="0" sh
 ift_y_down="0" z_index="0" medium_width="2" mobile_width="0" width="1/3" un
 code_shortcode_id="838225"][vc_icon icon="fa fa-info" size="fa-2x" uncode_s
 hortcode_id="151516"]Visit website>[/vc_icon][/vc_column_inner][/vc_row_inn
 er][/vc_column][/vc_row]
LOCATION:Online
DTSTAMP:20260419T125051Z
DTSTART:20231014T130000Z
DTEND:20260419T153000Z
END:VEVENT
END:VCALENDAR
