BEGIN:VCALENDAR
VERSION:2.0
PRODID:-//Eventin//Event Calendar//EN
CALSCALE:GREGORIAN
METHOD:PUBLISH
BEGIN:VEVENT
UID:826d4cbd9e7937b72d46717c744cabaa@activeilkley.org.uk
SUMMARY:Women's Ride- Ilkley Cycling Club
DESCRIPTION:[vc_row row_height_percent="0" override_padding="yes" h_padding
 ="2" top_padding="0" bottom_padding="0" back_color="color-lxmt" overlay_alp
 ha="50" gutter_size="4" column_width_percent="100" shift_y="0" z_index="0" 
 uncode_shortcode_id="897096" back_color_type="uncode-palette"][vc_column co
 lumn_width_percent="100" gutter_size="3" overlay_alpha="50" shift_x="0" shi
 ft_y="0" shift_y_down="0" z_index="0" medium_width="4" mobile_width="0" wid
 th="1/1" el_class="inverted-device-order"][vc_column_text uncode_shortcode_
 id="179171"]\n\n\n\nThe annual 22 mile ride to\, hopefully\, see the salmon
  leaping at Stainforce Force. we have to leave the bike\, so please bring a
  bike lock. Lunch will be at the Knights Table Caravan site café. Clothing
  appropriate to the weather forecast. More info here>\n\n\n\n[/vc_column_te
 xt][vc_empty_space empty_h="1"][vc_row_inner row_inner_height_percent="0" o
 verlay_alpha="50" equal_height="yes" gutter_size="4" shift_y="0"][vc_column
 _inner column_width_percent="100" align_horizontal="align_center" gutter_si
 ze="2" overlay_alpha="50" shift_x="0" shift_y="0" shift_y_down="0" z_index=
 "0" medium_width="2" mobile_width="0" width="1/3" uncode_shortcode_id="1939
 26"][vc_icon icon="fa fa-map3" icon_color="accent" size="fa-3x" text_size="
 h4" linked_title="yes" align="left" title="Meet" link="url:%23|||" uncode_s
 hortcode_id="824008" icon_color_type="uncode-palette"]Hellifield[/vc_icon][
 /vc_column_inner][vc_column_inner column_width_percent="100" align_horizont
 al="align_center" gutter_size="2" overlay_alpha="50" shift_x="0" shift_y="0
 " shift_y_down="0" z_index="0" medium_width="2" mobile_width="0" width="1/3
 " uncode_shortcode_id="151410"][vc_icon icon="fa fa-clock" icon_color="acce
 nt" size="fa-3x" text_size="h4" linked_title="yes" align="left" title="Time
 " link="url:%23|||" uncode_shortcode_id="643731" icon_color_type="uncode-pa
 lette"]10:15am[/vc_icon][/vc_column_inner][vc_column_inner column_width_per
 cent="100" align_horizontal="align_center" gutter_size="2" overlay_alpha="5
 0" shift_x="0" shift_y="0" shift_y_down="0" z_index="0" medium_width="2" mo
 bile_width="0" width="1/3" uncode_shortcode_id="838225"][vc_icon icon="fa f
 a-info-circle" icon_color="accent" size="fa-3x" text_size="h4" linked_title
 ="yes" align="left" title="More info" link="url:%23|||" uncode_shortcode_id
 ="204062" icon_color_type="uncode-palette"]Visit website >[/vc_icon][/vc_co
 lumn_inner][/vc_row_inner][/vc_column][/vc_row]
LOCATION:Online
DTSTAMP:20260420T013516Z
DTSTART:20231016T091500Z
DTEND:20260420T134500Z
END:VEVENT
END:VCALENDAR
