BEGIN:VCALENDAR
VERSION:2.0
PRODID:-//Eventin//Event Calendar//EN
CALSCALE:GREGORIAN
METHOD:PUBLISH
BEGIN:VEVENT
UID:853a2e53f435b1904d1b32ec7cafe76f@activeilkley.org.uk
SUMMARY:Wholegevity- Walk Well- free taster session
DESCRIPTION:[vc_row row_height_percent="0" override_padding="yes" h_padding
 ="2" top_padding="0" bottom_padding="0" back_color="color-lxmt" overlay_alp
 ha="50" gutter_size="4" column_width_percent="100" shift_y="0" z_index="0" 
 uncode_shortcode_id="897096" back_color_type="uncode-palette"][vc_column co
 lumn_width_percent="100" gutter_size="3" overlay_alpha="50" shift_x="0" shi
 ft_y="0" shift_y_down="0" z_index="0" medium_width="4" mobile_width="0" wid
 th="1/1" el_class="inverted-device-order"][vc_column_text uncode_shortcode_
 id="122902"]Walk Well is a brand new way to walk that still allows you to w
 alk with friends\, enjoy being outside but you’ll be :\n\nBurning more ca
 lories\,\nIncreasing muscle mass\nReducing anxiety\nImproving wellbeing\n\n
 This is a fully guided walk\, with an appropriately weighed rucksack ( prov
 ided) and has breathing practices and mindfulness woven into it. Lasting an
  hour with a short break and finishing up with hot drinks and tasty treats 
 as a reward for our efforts!\n\nAll you need is :-\n\nWater\nComfortable cl
 othing\nTrainers/Walking shoes\n\nTo sign up for our free taster session em
 ail: nick@wholegevity.com or text: 07768121415[/vc_column_text][vc_empty_sp
 ace empty_h="1"][vc_row_inner row_inner_height_percent="0" overlay_alpha="5
 0" equal_height="yes" gutter_size="4" shift_y="0"][vc_column_inner column_w
 idth_percent="100" align_horizontal="align_center" gutter_size="2" overlay_
 alpha="50" shift_x="0" shift_y="0" shift_y_down="0" z_index="0" medium_widt
 h="2" mobile_width="0" width="1/3" uncode_shortcode_id="193926"][vc_icon ic
 on="fa fa-map3" icon_color="accent" size="fa-3x" text_size="h4" linked_titl
 e="yes" align="left" title="Meet" link="url:%23|||" uncode_shortcode_id="11
 8654" icon_color_type="uncode-palette"]Email Nick for details[/vc_icon][/vc
 _column_inner][vc_column_inner column_width_percent="100" align_horizontal=
 "align_center" gutter_size="2" overlay_alpha="50" shift_x="0" shift_y="0" s
 hift_y_down="0" z_index="0" medium_width="2" mobile_width="0" width="1/3" u
 ncode_shortcode_id="151410"][vc_icon icon="fa fa-clock" icon_color="accent"
  size="fa-3x" text_size="h4" linked_title="yes" align="left" title="Time" l
 ink="url:%23|||" uncode_shortcode_id="793740" icon_color_type="uncode-palet
 te"]9am[/vc_icon][/vc_column_inner][vc_column_inner column_width_percent="1
 00" align_horizontal="align_center" gutter_size="2" overlay_alpha="50" shif
 t_x="0" shift_y="0" shift_y_down="0" z_index="0" medium_width="2" mobile_wi
 dth="0" width="1/3" uncode_shortcode_id="838225"][vc_icon icon="fa fa-info-
 circle" icon_color="accent" size="fa-3x" text_size="h4" linked_title="yes" 
 align="left" title="More info" link="url:%23|||" uncode_shortcode_id="14660
 2" icon_color_type="uncode-palette"]Visit website>[/vc_icon][/vc_column_inn
 er][/vc_row_inner][/vc_column][/vc_row]
LOCATION:Online
DTSTAMP:20260420T030535Z
DTSTART:20231110T090000Z
DTEND:20260420T123000Z
END:VEVENT
END:VCALENDAR
