BEGIN:VCALENDAR
VERSION:2.0
PRODID:-//Eventin//Event Calendar//EN
CALSCALE:GREGORIAN
METHOD:PUBLISH
BEGIN:VEVENT
UID:cc75a3aa403d733d9ab0c1d5585dfdbb@activeilkley.org.uk
SUMMARY:Ilkley Fire Station Community Orchard Planting Day
DESCRIPTION:[vc_row row_height_percent="0" override_padding="yes" h_padding
 ="2" top_padding="0" bottom_padding="0" back_color="color-lxmt" overlay_alp
 ha="50" gutter_size="4" column_width_percent="100" shift_y="0" z_index="0" 
 uncode_shortcode_id="897096" back_color_type="uncode-palette"][vc_column co
 lumn_width_percent="100" gutter_size="3" overlay_alpha="50" shift_x="0" shi
 ft_y="0" shift_y_down="0" z_index="0" medium_width="4" mobile_width="0" wid
 th="1/1" el_class="inverted-device-order"][vc_column_text uncode_shortcode_
 id="167202"]Help is needed this Saturday at Ilkley Fire Station to help dig
  for the new community orchard. Tea & cake is given in exchange for your ha
 rd work. Bring your own spade and gloves (if possible)\,\n\nEmail Edward Po
 ulter for more info: Edward.Poulter@westyorksfire.gov.uk[/vc_column_text][v
 c_empty_space empty_h="1"][vc_row_inner row_inner_height_percent="0" overla
 y_alpha="50" equal_height="yes" gutter_size="4" shift_y="0"][vc_column_inne
 r column_width_percent="100" align_horizontal="align_center" gutter_size="2
 " overlay_alpha="50" shift_x="0" shift_y="0" shift_y_down="0" z_index="0" m
 edium_width="2" mobile_width="0" width="1/3" uncode_shortcode_id="193926"][
 vc_icon icon="fa fa-map3" icon_color="accent" size="fa-3x" text_size="h4" l
 inked_title="yes" align="left" title="Meet" link="url:%23|||" uncode_shortc
 ode_id="150156" icon_color_type="uncode-palette"]\nIlkley Fire Station\n[/v
 c_icon][/vc_column_inner][vc_column_inner column_width_percent="100" align_
 horizontal="align_center" gutter_size="2" overlay_alpha="50" shift_x="0" sh
 ift_y="0" shift_y_down="0" z_index="0" medium_width="2" mobile_width="0" wi
 dth="1/3" uncode_shortcode_id="151410"][vc_icon icon="fa fa-clock" icon_col
 or="accent" size="fa-3x" text_size="h4" linked_title="yes" align="left" tit
 le="Time" link="url:%23|||" uncode_shortcode_id="199457" icon_color_type="u
 ncode-palette"]10:30am - 1pm[/vc_icon][/vc_column_inner][vc_column_inner co
 lumn_width_percent="100" align_horizontal="align_center" gutter_size="2" ov
 erlay_alpha="50" shift_x="0" shift_y="0" shift_y_down="0" z_index="0" mediu
 m_width="2" mobile_width="0" width="1/3" uncode_shortcode_id="838225"][vc_i
 con icon="fa fa-info-circle" icon_color="accent" size="fa-3x" text_size="h4
 " linked_title="yes" align="left" title="More info" link="url:%23|||" uncod
 e_shortcode_id="164055" icon_color_type="uncode-palette"]Visit website >[/v
 c_icon][/vc_column_inner][/vc_row_inner][/vc_column][/vc_row]
LOCATION:Online
DTSTAMP:20260420T044252Z
DTSTART:20231125T103000Z
DTEND:20260420T120000Z
END:VEVENT
END:VCALENDAR
