BEGIN:VCALENDAR
VERSION:2.0
PRODID:-//Eventin//Event Calendar//EN
CALSCALE:GREGORIAN
METHOD:PUBLISH
BEGIN:VEVENT
UID:5b77197175b950848a7cf504678988b9@activeilkley.org.uk
SUMMARY:Beginners Walk Club- Alpkit
DESCRIPTION:[vc_row row_height_percent="0" override_padding="yes" h_padding
 ="2" top_padding="0" bottom_padding="0" back_color="color-lxmt" overlay_alp
 ha="50" gutter_size="4" column_width_percent="100" shift_y="0" z_index="0" 
 uncode_shortcode_id="897096" back_color_type="uncode-palette"][vc_column co
 lumn_width_percent="100" gutter_size="3" overlay_alpha="50" shift_x="0" shi
 ft_y="0" shift_y_down="0" z_index="0" medium_width="4" mobile_width="0" wid
 th="1/1" el_class="inverted-device-order"][vc_column_text uncode_shortcode_
 id="672705"]Our brand new Beginners Walk Club is being run by Alpkit Ilkley
 . It's for anyone who fancies a walking group\, but hasn't done much walkin
 g in the past or needs to take things a bit more gently. It's a fantastic w
 ay to help you get more active and healthy while meeting new people.\n\n \
 n\nIt starts at the Alpkit store in Ilkley and takes you along the riversid
 e and stops for tea & cake afterwards. It's free to join! Just sign-up via 
 the 'Visit Website' ink below.[/vc_column_text][vc_empty_space empty_h="1"]
 [vc_row_inner row_inner_height_percent="0" overlay_alpha="50" equal_height=
 "yes" gutter_size="4" shift_y="0"][vc_column_inner column_width_percent="10
 0" align_horizontal="align_center" gutter_size="2" overlay_alpha="50" shift
 _x="0" shift_y="0" shift_y_down="0" z_index="0" medium_width="2" mobile_wid
 th="0" width="1/3" uncode_shortcode_id="193926"][vc_icon icon="fa fa-map3" 
 icon_color="accent" size="fa-3x" text_size="h4" linked_title="yes" align="l
 eft" title="Meet" link="url:%23|||" uncode_shortcode_id="207151" icon_color
 _type="uncode-palette"]\nAlpkit\, Ilkley\n[/vc_icon][/vc_column_inner][vc_c
 olumn_inner column_width_percent="100" align_horizontal="align_center" gutt
 er_size="2" overlay_alpha="50" shift_x="0" shift_y="0" shift_y_down="0" z_i
 ndex="0" medium_width="2" mobile_width="0" width="1/3" uncode_shortcode_id=
 "151410"][vc_icon icon="fa fa-clock" icon_color="accent" size="fa-3x" text_
 size="h4" linked_title="yes" align="left" title="Time" link="url:%23|||" un
 code_shortcode_id="899945" icon_color_type="uncode-palette"]9:30am-10:30am[
 /vc_icon][/vc_column_inner][vc_column_inner column_width_percent="100" alig
 n_horizontal="align_center" gutter_size="2" overlay_alpha="50" shift_x="0" 
 shift_y="0" shift_y_down="0" z_index="0" medium_width="2" mobile_width="0" 
 width="1/3" uncode_shortcode_id="838225"][vc_icon icon="fa fa-info-circle" 
 icon_color="accent" size="fa-3x" text_size="h4" linked_title="yes" align="l
 eft" title="More info" link="url:%23|||" uncode_shortcode_id="946276" icon_
 color_type="uncode-palette"]Visit website >[/vc_icon][/vc_column_inner][/vc
 _row_inner][/vc_column][/vc_row]
LOCATION:Online
DTSTAMP:20260420T073854Z
DTSTART:20240223T093000Z
DTEND:20260420T093000Z
END:VEVENT
END:VCALENDAR
