BEGIN:VCALENDAR
VERSION:2.0
PRODID:-//Eventin//Event Calendar//EN
CALSCALE:GREGORIAN
METHOD:PUBLISH
BEGIN:VEVENT
UID:911717f2c9c404e8bfe5495d403a919e@activeilkley.org.uk
SUMMARY:Drop-in sessions- U3a
DESCRIPTION:[vc_row row_height_percent="0" override_padding="yes" h_padding
 ="2" top_padding="0" bottom_padding="0" back_color="color-lxmt" overlay_alp
 ha="50" gutter_size="4" column_width_percent="100" shift_y="0" z_index="0" 
 uncode_shortcode_id="897096" back_color_type="uncode-palette"][vc_column co
 lumn_width_percent="100" gutter_size="3" overlay_alpha="50" shift_x="0" shi
 ft_y="0" shift_y_down="0" z_index="0" medium_width="4" mobile_width="0" wid
 th="1/1" el_class="inverted-device-order"][vc_column_text uncode_shortcode_
 id="884310"]Drop-in sessions- these are an opportunity for both existing an
 d potential members to meet some of our Trustees and Group Leaders and have
  their enquiries answered over a cup of tea or coffee.[/vc_column_text][vc
 _empty_space empty_h="1"][vc_row_inner row_inner_height_percent="0" overlay
 _alpha="50" equal_height="yes" gutter_size="4" shift_y="0"][vc_column_inner
  column_width_percent="100" align_horizontal="align_center" gutter_size="2"
  overlay_alpha="50" shift_x="0" shift_y="0" shift_y_down="0" z_index="0" me
 dium_width="2" mobile_width="0" width="1/3" uncode_shortcode_id="193926"][v
 c_icon icon="fa fa-map3" icon_color="accent" size="fa-3x" text_size="h4" li
 nked_title="yes" align="left" title="Meet" link="url:%23|||" uncode_shortco
 de_id="122992" icon_color_type="uncode-palette"]Clarke Foley Centre\, Ilkle
 y[/vc_icon][/vc_column_inner][vc_column_inner column_width_percent="100" al
 ign_horizontal="align_center" gutter_size="2" overlay_alpha="50" shift_x="0
 " shift_y="0" shift_y_down="0" z_index="0" medium_width="2" mobile_width="0
 " width="1/3" uncode_shortcode_id="151410"][vc_icon icon="fa fa-clock" icon
 _color="accent" size="fa-3x" text_size="h4" linked_title="yes" align="left"
  title="Time" link="url:%23|||" uncode_shortcode_id="690269" icon_color_typ
 e="uncode-palette"]10:30am-12pm[/vc_icon][/vc_column_inner][vc_column_inner
  column_width_percent="100" align_horizontal="align_center" gutter_size="2"
  overlay_alpha="50" shift_x="0" shift_y="0" shift_y_down="0" z_index="0" me
 dium_width="2" mobile_width="0" width="1/3" uncode_shortcode_id="838225"][v
 c_icon icon="fa fa-info-circle" icon_color="accent" size="fa-3x" text_size=
 "h4" linked_title="yes" align="left" title="More info" link="url:%23|||" un
 code_shortcode_id="165529" icon_color_type="uncode-palette"]Visit website >
 [/vc_icon][/vc_column_inner][/vc_row_inner][/vc_column][/vc_row]
LOCATION:Online
DTSTAMP:20260420T073944Z
DTSTART:20240315T103000Z
DTEND:20260420T110000Z
END:VEVENT
END:VCALENDAR
