BEGIN:VCALENDAR
VERSION:2.0
PRODID:-//Eventin//Event Calendar//EN
CALSCALE:GREGORIAN
METHOD:PUBLISH
BEGIN:VEVENT
UID:d14e96e2d41f8bed43401defbbe00835@activeilkley.org.uk
SUMMARY:The Chevin- Burley Walkers are Welcome
DESCRIPTION:[vc_row row_height_percent="0" override_padding="yes" h_padding
 ="2" top_padding="0" bottom_padding="0" back_color="color-lxmt" overlay_alp
 ha="50" gutter_size="4" column_width_percent="100" shift_y="0" z_index="0" 
 uncode_shortcode_id="897096" back_color_type="uncode-palette"][vc_column co
 lumn_width_percent="100" gutter_size="3" overlay_alpha="50" shift_x="0" shi
 ft_y="0" shift_y_down="0" z_index="0" medium_width="4" mobile_width="0" wid
 th="1/1" el_class="inverted-device-order"][vc_column_text uncode_shortcode_
 id="314419"]\n\n\nOur longer walk this month led by David Steel is around 9
  miles. It will head to the highest point of the Chevin at Surprise View.\n
 \nHeading out eastwards from Burley towards Acrecliffe Farm\, we will climb
  up to West Chevin. After a short stretch of road walking\, we will go alon
 g field and woodland paths to reach Surprise View.  Passing the Royalty pu
 b\, we will then skirt Guiseley before dropping down into Menston to return
  to Burley. There are some stiles\, some moderate ascents\, and paths may b
 e muddy in places. Please bring a packed lunch. Refreshments stops will be 
 agreed by the group on the day.\n\n\n[/vc_column_text][vc_empty_space empty
 _h="1"][vc_row_inner row_inner_height_percent="0" overlay_alpha="50" equal_
 height="yes" gutter_size="4" shift_y="0"][vc_column_inner column_width_perc
 ent="100" align_horizontal="align_center" gutter_size="2" overlay_alpha="50
 " shift_x="0" shift_y="0" shift_y_down="0" z_index="0" medium_width="2" mob
 ile_width="0" width="1/3" uncode_shortcode_id="193926"][vc_icon icon="fa fa
 -map3" icon_color="accent" size="fa-3x" text_size="h4" linked_title="yes" a
 lign="left" title="Meet" link="url:%23|||" uncode_shortcode_id="143340" ico
 n_color_type="uncode-palette"]Burley Library[/vc_icon][/vc_column_inner][vc
 _column_inner column_width_percent="100" align_horizontal="align_center" gu
 tter_size="2" overlay_alpha="50" shift_x="0" shift_y="0" shift_y_down="0" z
 _index="0" medium_width="2" mobile_width="0" width="1/3" uncode_shortcode_i
 d="151410"][vc_icon icon="fa fa-clock" icon_color="accent" size="fa-3x" tex
 t_size="h4" linked_title="yes" align="left" title="Time" link="url:%23|||" 
 uncode_shortcode_id="166924" icon_color_type="uncode-palette"]10am[/vc_icon
 ][/vc_column_inner][vc_column_inner column_width_percent="100" align_horizo
 ntal="align_center" gutter_size="2" overlay_alpha="50" shift_x="0" shift_y=
 "0" shift_y_down="0" z_index="0" medium_width="2" mobile_width="0" width="1
 /3" uncode_shortcode_id="838225"][vc_icon icon="fa fa-info-circle" icon_col
 or="accent" size="fa-3x" text_size="h4" linked_title="yes" align="left" tit
 le="More info" link="url:%23|||" uncode_shortcode_id="204149" icon_color_ty
 pe="uncode-palette"]Visit website >[/vc_icon][/vc_column_inner][/vc_row_inn
 er][/vc_column][/vc_row]
LOCATION:Online
DTSTAMP:20260421T132226Z
DTSTART:20240225T100000Z
DTEND:20260421T120000Z
END:VEVENT
END:VCALENDAR
