BEGIN:VCALENDAR
VERSION:2.0
PRODID:-//Eventin//Event Calendar//EN
CALSCALE:GREGORIAN
METHOD:PUBLISH
BEGIN:VEVENT
UID:72af62c043e89b145711e877c3218990@activeilkley.org.uk
SUMMARY:Hawk &amp\; Heath- Ancient Forest Bathing
DESCRIPTION:[vc_row row_height_percent="0" override_padding="yes" h_padding
 ="2" top_padding="0" bottom_padding="0" back_color="color-lxmt" overlay_alp
 ha="50" gutter_size="4" column_width_percent="100" shift_y="0" z_index="0" 
 uncode_shortcode_id="897096" back_color_type="uncode-palette"][vc_column co
 lumn_width_percent="100" gutter_size="3" overlay_alpha="50" shift_x="0" shi
 ft_y="0" shift_y_down="0" z_index="0" medium_width="4" mobile_width="0" wid
 th="1/1" el_class="inverted-device-order"][vc_column_text uncode_shortcode_
 id="123529"]Experience a serene 3-hour Japanese style forest bathing sessio
 n in the ancient woodland of Ilkley\, immersing yourself in nature.\n\n£35
 \n\nVisit website to book your place>[/vc_column_text][vc_empty_space empty
 _h="1"][vc_row_inner row_inner_height_percent="0" overlay_alpha="50" equal_
 height="yes" gutter_size="4" shift_y="0"][vc_column_inner column_width_perc
 ent="100" align_horizontal="align_center" gutter_size="2" overlay_alpha="50
 " shift_x="0" shift_y="0" shift_y_down="0" z_index="0" medium_width="2" mob
 ile_width="0" width="1/3" uncode_shortcode_id="193926"][vc_icon icon="fa fa
 -map3" icon_color="accent" size="fa-3x" text_size="h4" linked_title="yes" a
 lign="left" title="Meet" link="url:%23|||" uncode_shortcode_id="745772" ico
 n_color_type="uncode-palette"]Curley Hill Scout Camp\, Ilkley[/vc_icon][/vc
 _column_inner][vc_column_inner column_width_percent="100" align_horizontal=
 "align_center" gutter_size="2" overlay_alpha="50" shift_x="0" shift_y="0" s
 hift_y_down="0" z_index="0" medium_width="2" mobile_width="0" width="1/3" u
 ncode_shortcode_id="151410"][vc_icon icon="fa fa-clock" icon_color="accent"
  size="fa-3x" text_size="h4" linked_title="yes" align="left" title="Time" l
 ink="url:%23|||" uncode_shortcode_id="133256" icon_color_type="uncode-palet
 te"]9am\, 1pm or 5pm[/vc_icon][/vc_column_inner][vc_column_inner column_wid
 th_percent="100" align_horizontal="align_center" gutter_size="2" overlay_al
 pha="50" shift_x="0" shift_y="0" shift_y_down="0" z_index="0" medium_width=
 "2" mobile_width="0" width="1/3" uncode_shortcode_id="838225"][vc_icon icon
 ="fa fa-info-circle" icon_color="accent" size="fa-3x" text_size="h4" linked
 _title="yes" align="left" title="More info" link="url:%23|||" uncode_shortc
 ode_id="167011" icon_color_type="uncode-palette"]Visit website >[/vc_icon][
 /vc_column_inner][/vc_row_inner][/vc_column][/vc_row]
LOCATION:Online
DTSTAMP:20260420T073944Z
DTSTART:20240229T090000Z
DTEND:20260420T110000Z
END:VEVENT
END:VCALENDAR
