BEGIN:VCALENDAR
VERSION:2.0
PRODID:-//Eventin//Event Calendar//EN
CALSCALE:GREGORIAN
METHOD:PUBLISH
BEGIN:VEVENT
UID:dae746bf075b7eae8429574317379697@activeilkley.org.uk
SUMMARY:Women's Social Ride - Alpkit
DESCRIPTION:[vc_row row_height_percent="0" override_padding="yes" h_padding
 ="2" top_padding="0" bottom_padding="0" back_color="color-lxmt" overlay_alp
 ha="50" gutter_size="4" column_width_percent="100" shift_y="0" z_index="0" 
 uncode_shortcode_id="897096" back_color_type="uncode-palette"][vc_column co
 lumn_width_percent="100" gutter_size="3" overlay_alpha="50" shift_x="0" shi
 ft_y="0" shift_y_down="0" z_index="0" medium_width="4" mobile_width="0" wid
 th="1/1" el_class="inverted-device-order"][vc_custom_heading auto_text="yes
 " heading_semantic="h1" text_size="fontsize-155944" uncode_shortcode_id="24
 4188"][/vc_custom_heading][vc_column_text uncode_shortcode_id="169043"]This
  ride is for anyone who identifies as female or non-binary. A social pace g
 roup ride of 10-12 miles\, including a cafe stop. Please ensure you visit t
 heir website to register your place on the ride.[/vc_column_text][vc_empty_
 space empty_h="1"][vc_row_inner row_inner_height_percent="0" overlay_alpha=
 "50" equal_height="yes" gutter_size="4" shift_y="0"][vc_column_inner column
 _width_percent="100" align_horizontal="align_center" gutter_size="2" overla
 y_alpha="50" shift_x="0" shift_y="0" shift_y_down="0" z_index="0" medium_wi
 dth="2" mobile_width="0" width="1/3" uncode_shortcode_id="193926"][vc_icon 
 icon="fa fa-map3" icon_color="accent" size="fa-3x" text_size="h4" linked_ti
 tle="yes" align="left" title="Meet" link="url:%23|||" uncode_shortcode_id="
 789883" icon_color_type="uncode-palette"]Alpkit store\, Ilkley[/vc_icon][/v
 c_column_inner][vc_column_inner column_width_percent="100" align_horizontal
 ="align_center" gutter_size="2" overlay_alpha="50" shift_x="0" shift_y="0" 
 shift_y_down="0" z_index="0" medium_width="2" mobile_width="0" width="1/3" 
 uncode_shortcode_id="151410"][vc_icon icon="fa fa-clock" icon_color="accent
 " size="fa-3x" text_size="h4" linked_title="yes" align="left" title="Time" 
 link="url:%23|||" uncode_shortcode_id="100364" icon_color_type="uncode-pale
 tte"]9:30am[/vc_icon][/vc_column_inner][vc_column_inner column_width_percen
 t="100" align_horizontal="align_center" gutter_size="2" overlay_alpha="50" 
 shift_x="0" shift_y="0" shift_y_down="0" z_index="0" medium_width="2" mobil
 e_width="0" width="1/3" uncode_shortcode_id="838225"][vc_icon icon="fa fa-i
 nfo-circle" icon_color="accent" size="fa-3x" text_size="h4" linked_title="y
 es" align="left" title="More info" link="url:%23|||" uncode_shortcode_id="2
 06112" icon_color_type="uncode-palette"]Visit website >[/vc_icon][/vc_colum
 n_inner][/vc_row_inner][/vc_column][/vc_row]
LOCATION:Online
DTSTAMP:20260420T073748Z
DTSTART:20240303T093000Z
DTEND:20260420T110000Z
END:VEVENT
END:VCALENDAR
