BEGIN:VCALENDAR
VERSION:2.0
PRODID:-//Eventin//Event Calendar//EN
CALSCALE:GREGORIAN
METHOD:PUBLISH
BEGIN:VEVENT
UID:76c1dd0e15c8b702d6e7fb48573968f0@activeilkley.org.uk
SUMMARY:The Yorkshire Dales Strollers
DESCRIPTION:[vc_row row_height_percent="0" override_padding="yes" h_padding
 ="2" top_padding="0" bottom_padding="0" back_color="color-lxmt" overlay_alp
 ha="50" gutter_size="4" column_width_percent="100" shift_y="0" z_index="0" 
 uncode_shortcode_id="897096" back_color_type="uncode-palette"][vc_column co
 lumn_width_percent="100" gutter_size="3" overlay_alpha="50" shift_x="0" shi
 ft_y="0" shift_y_down="0" z_index="0" medium_width="4" mobile_width="0" wid
 th="1/1" el_class="inverted-device-order"][vc_custom_heading auto_text="yes
 " heading_semantic="h1" text_size="fontsize-155944" uncode_shortcode_id="24
 4188"][/vc_custom_heading][vc_column_text uncode_shortcode_id="134506"]\nA 
 new Walking Group using the Dales Bus network to discover the hidden Gems o
 f The Yorkshire Dales. This is a 4 mile walk.\nGetting there – Catch the 
 864 Malham Bus from:\n\n\n 	Burley In Wharfedale @ 9.58am\n 	Ilkley Bus Sta
 tion @10.10am (the walk leader Muppett will join the bus here)\n 	Or meet i
 n the National Park Car Park in Malham at 11.20am\n\nThe walk follows a pat
 h out of the Village through a series of Fields and into woodland (the path
  becomes uneven here) and leads to the Waterfall known as Janet’s Foss. F
 rom here there is a little scramble up onto the path and Road. Here We’ll
  take a little diversion to walk through the fields (level) to look at Gord
 ale Scar. We’ll then retrace our steps to the roadside mobile café and t
 hen follow a path that gradually climbs up the hillside. We follow the path
  then for about ½ mile or so till we reach a road. From here We’ll follo
 w the road as it climbs down the hillside back into Malham and the end of t
 he walk.\nYou have an option then to catch the 2.50pm 864 bus to Skipton Wh
 ich Connects to the 3.30pm 873 bus to Ilkley and this in turn Connects to a
  train to Burley In Wharfedale\, Baildon\, Shipley & Bradford.\nAlternative
 ly you can enjoy the cafés and pubs or explore the area further and catch 
 the 4.40pm 864 Bus that Heads back to Bradford.\nFor More details on the bu
 s times see this link\; dalesbus.pdf \n[/vc_column_text][vc_empty_space emp
 ty_h="1"][vc_row_inner row_inner_height_percent="0" overlay_alpha="50" equa
 l_height="yes" gutter_size="4" shift_y="0"][vc_column_inner column_width_pe
 rcent="100" align_horizontal="align_center" gutter_size="2" overlay_alpha="
 50" shift_x="0" shift_y="0" shift_y_down="0" z_index="0" medium_width="2" m
 obile_width="0" width="1/3" uncode_shortcode_id="193926"][vc_icon icon="fa 
 fa-map3" icon_color="accent" size="fa-3x" text_size="h4" linked_title="yes"
  align="left" title="Meet" link="url:%23|||" uncode_shortcode_id="406141" i
 con_color_type="uncode-palette"]Burley\, Ilkley or the National Park Car Pa
 rk in Malham.[/vc_icon][/vc_column_inner][vc_column_inner column_width_perc
 ent="100" align_horizontal="align_center" gutter_size="2" overlay_alpha="50
 " shift_x="0" shift_y="0" shift_y_down="0" z_index="0" medium_width="2" mob
 ile_width="0" width="1/3" uncode_shortcode_id="151410"][vc_icon icon="fa fa
 -clock" icon_color="accent" size="fa-3x" text_size="h4" linked_title="yes" 
 align="left" title="Time" link="url:%23|||" uncode_shortcode_id="536829" ic
 on_color_type="uncode-palette"]See details above- depends on how you intend
  to get there.[/vc_icon][/vc_column_inner][vc_column_inner column_width_per
 cent="100" align_horizontal="align_center" gutter_size="2" overlay_alpha="5
 0" shift_x="0" shift_y="0" shift_y_down="0" z_index="0" medium_width="2" mo
 bile_width="0" width="1/3" uncode_shortcode_id="838225"][vc_icon icon="fa f
 a-info-circle" icon_color="accent" size="fa-3x" text_size="h4" linked_title
 ="yes" align="left" title="More info" link="url:%23|||" uncode_shortcode_id
 ="223201" icon_color_type="uncode-palette"]Visit website >[/vc_icon][/vc_co
 lumn_inner][/vc_row_inner][/vc_column][/vc_row]
LOCATION:Online
DTSTAMP:20260420T073841Z
DTSTART:20240225T111500Z
DTEND:20260420T135000Z
END:VEVENT
END:VCALENDAR
