BEGIN:VCALENDAR
VERSION:2.0
PRODID:-//Eventin//Event Calendar//EN
CALSCALE:GREGORIAN
METHOD:PUBLISH
BEGIN:VEVENT
UID:e505e0e637137dc673dbe6e9a4df5769@activeilkley.org.uk
SUMMARY:Drop-in Sessions
DESCRIPTION:[vc_row row_height_percent="0" override_padding="yes" h_padding
 ="2" top_padding="0" bottom_padding="0" back_color="color-lxmt" overlay_alp
 ha="50" gutter_size="4" column_width_percent="100" shift_y="0" z_index="0" 
 uncode_shortcode_id="897096" back_color_type="uncode-palette"][vc_column co
 lumn_width_percent="100" gutter_size="3" overlay_alpha="50" shift_x="0" shi
 ft_y="0" shift_y_down="0" z_index="0" medium_width="4" mobile_width="0" wid
 th="1/1" el_class="inverted-device-order"][vc_column_text uncode_shortcode_
 id="902218"]Would you like to know more about the Ilkley Active Travel Hub 
 and what it can offer you? Would you like advice or ideas on how to get mor
 e active? You can come and chat to our Active Travel co-ordinator for tailo
 r-made\, 1-2-1 advice at our Wednesday afternoon sessions at the Ilkley Thi
 ngery.\n\n \n\nNo need to book- just turn up! It's completely free too.[/v
 c_column_text][vc_empty_space empty_h="1"][vc_row_inner row_inner_height_pe
 rcent="0" overlay_alpha="50" equal_height="yes" gutter_size="4" shift_y="0"
 ][vc_column_inner column_width_percent="100" align_horizontal="align_center
 " gutter_size="2" overlay_alpha="50" shift_x="0" shift_y="0" shift_y_down="
 0" z_index="0" medium_width="2" mobile_width="0" width="1/3" uncode_shortco
 de_id="193926"][vc_icon icon="fa fa-map3" icon_color="accent" size="fa-3x" 
 text_size="h4" linked_title="yes" align="left" title="Meet" link="url:%23||
 |" uncode_shortcode_id="211944" icon_color_type="uncode-palette"]Ilkley Thi
 ngery\, 10 Church Street\, Ilkley\, LS29 9DS.[/vc_icon][/vc_column_inner][
 vc_column_inner column_width_percent="100" align_horizontal="align_center" 
 gutter_size="2" overlay_alpha="50" shift_x="0" shift_y="0" shift_y_down="0"
  z_index="0" medium_width="2" mobile_width="0" width="1/3" uncode_shortcode
 _id="151410"][vc_icon icon="fa fa-clock" icon_color="accent" size="fa-3x" t
 ext_size="h4" linked_title="yes" align="left" title="Time" link="url:%23|||
 " uncode_shortcode_id="212444" icon_color_type="uncode-palette"]1pm-3pm[/vc
 _icon][/vc_column_inner][vc_column_inner column_width_percent="100" align_h
 orizontal="align_center" gutter_size="2" overlay_alpha="50" shift_x="0" shi
 ft_y="0" shift_y_down="0" z_index="0" medium_width="2" mobile_width="0" wid
 th="1/3" uncode_shortcode_id="838225"][vc_icon icon="fa fa-info-circle" ico
 n_color="accent" size="fa-3x" text_size="h4" linked_title="yes" align="left
 " title="More info" link="url:%23|||" uncode_shortcode_id="587526" icon_col
 or_type="uncode-palette"]Visit website >[/vc_icon][/vc_column_inner][/vc_ro
 w_inner][/vc_column][/vc_row]
LOCATION:Online
DTSTAMP:20260420T135236Z
DTSTART:20240228T130000Z
DTEND:20260420T140000Z
END:VEVENT
END:VCALENDAR
