BEGIN:VCALENDAR
VERSION:2.0
PRODID:-//Eventin//Event Calendar//EN
CALSCALE:GREGORIAN
METHOD:PUBLISH
BEGIN:VEVENT
UID:b74eb5ae61d702ef6c3018bba8a46c36@activeilkley.org.uk
SUMMARY:Adult Cycling Lessons
DESCRIPTION:[vc_row row_height_percent="0" override_padding="yes" h_padding
 ="2" top_padding="0" bottom_padding="0" back_color="color-lxmt" overlay_alp
 ha="50" gutter_size="4" column_width_percent="100" shift_y="0" z_index="0" 
 uncode_shortcode_id="897096" back_color_type="uncode-palette"][vc_column co
 lumn_width_percent="100" gutter_size="3" overlay_alpha="50" shift_x="0" shi
 ft_y="0" shift_y_down="0" z_index="0" medium_width="4" mobile_width="0" wid
 th="1/1" el_class="inverted-device-order"][vc_column_text uncode_shortcode_
 id="230659"]We're really excited to announce that we will soon be running f
 ree adult cycling lessons. In partnership with Capital of Cycling\, the le
 ssons are for anyone who wants to learn to ride for the first time or get 
 back on a bike having not cycled in years.  The sessions are FREE and an 
 adult bike will be provided for the lesson duration. Lessons are available 
 to anyone aged 16 up. They will start on Sunday 3rd March at 2pm and take p
 lace at Ilkley Rugby Club. If you or anyone you know are interested\, all y
 ou need to do is sign-up HERE. Sign-up quick as places are limited![/vc_col
 umn_text][vc_empty_space empty_h="1"][vc_row_inner row_inner_height_percent
 ="0" overlay_alpha="50" equal_height="yes" gutter_size="4" shift_y="0"][vc_
 column_inner column_width_percent="100" align_horizontal="align_center" gut
 ter_size="2" overlay_alpha="50" shift_x="0" shift_y="0" shift_y_down="0" z_
 index="0" medium_width="2" mobile_width="0" width="1/3" uncode_shortcode_id
 ="193926"][vc_icon icon="fa fa-map3" icon_color="accent" size="fa-3x" text_
 size="h4" linked_title="yes" align="left" title="Meet" link="url:%23|||" un
 code_shortcode_id="130188" icon_color_type="uncode-palette"]Ilkley Rugby Cl
 ub[/vc_icon][/vc_column_inner][vc_column_inner column_width_percent="100" a
 lign_horizontal="align_center" gutter_size="2" overlay_alpha="50" shift_x="
 0" shift_y="0" shift_y_down="0" z_index="0" medium_width="2" mobile_width="
 0" width="1/3" uncode_shortcode_id="151410"][vc_icon icon="fa fa-clock" ico
 n_color="accent" size="fa-3x" text_size="h4" linked_title="yes" align="left
 " title="Time" link="url:%23|||" uncode_shortcode_id="153597" icon_color_ty
 pe="uncode-palette"]2-4pm[/vc_icon][/vc_column_inner][vc_column_inner colum
 n_width_percent="100" align_horizontal="align_center" gutter_size="2" overl
 ay_alpha="50" shift_x="0" shift_y="0" shift_y_down="0" z_index="0" medium_w
 idth="2" mobile_width="0" width="1/3" uncode_shortcode_id="838225"][vc_icon
  icon="fa fa-info-circle" icon_color="accent" size="fa-3x" uncode_shortcode
 _id="154734" title="More info" icon_color_type="uncode-palette"]Book here>[
 /vc_icon][/vc_column_inner][/vc_row_inner][/vc_column][/vc_row]
LOCATION:Online
DTSTAMP:20260422T095239Z
DTSTART:20240303T140000Z
DTEND:20260422T150000Z
END:VEVENT
END:VCALENDAR
