BEGIN:VCALENDAR
VERSION:2.0
PRODID:-//Eventin//Event Calendar//EN
CALSCALE:GREGORIAN
METHOD:PUBLISH
BEGIN:VEVENT
UID:776750773fce0e2bc01de0135ecad4f1@activeilkley.org.uk
SUMMARY:East Holmes Field Community Orchard Pruning &amp\; Maintenance Day
DESCRIPTION:[vc_row row_height_percent="0" override_padding="yes" h_padding
 ="2" top_padding="0" bottom_padding="0" back_color="color-lxmt" overlay_alp
 ha="50" gutter_size="4" column_width_percent="100" shift_y="0" z_index="0" 
 uncode_shortcode_id="897096" back_color_type="uncode-palette"][vc_column co
 lumn_width_percent="100" gutter_size="3" overlay_alpha="50" shift_x="0" shi
 ft_y="0" shift_y_down="0" z_index="0" medium_width="4" mobile_width="0" wid
 th="1/1" el_class="inverted-device-order"][vc_column_text uncode_shortcode_
 id="169380"]Please come and join us to help prune\, weed\, mulch and retie 
 the fruit trees. Bring gloves\, a spade/trowel/bucket/wheelbarrow if you ar
 e able to.\n\n \n\nFor information please contact orchard@climateactionilk
 ley.org.uk[/vc_column_text][vc_empty_space empty_h="1"][vc_row_inner row_in
 ner_height_percent="0" overlay_alpha="50" equal_height="yes" gutter_size="4
 " shift_y="0"][vc_column_inner column_width_percent="100" align_horizontal=
 "align_center" gutter_size="2" overlay_alpha="50" shift_x="0" shift_y="0" s
 hift_y_down="0" z_index="0" medium_width="2" mobile_width="0" width="1/3" u
 ncode_shortcode_id="193926"][vc_icon icon="fa fa-map3" icon_color="accent" 
 size="fa-3x" text_size="h4" linked_title="yes" align="left" title="Meet" li
 nk="url:%23|||" uncode_shortcode_id="125838" icon_color_type="uncode-palett
 e"]\nEast Holmes Field (next to Skate Park)\n[/vc_icon][/vc_column_inner][v
 c_column_inner column_width_percent="100" align_horizontal="align_center" g
 utter_size="2" overlay_alpha="50" shift_x="0" shift_y="0" shift_y_down="0" 
 z_index="0" medium_width="2" mobile_width="0" width="1/3" uncode_shortcode_
 id="151410"][vc_icon icon="fa fa-clock" icon_color="accent" size="fa-3x" te
 xt_size="h4" linked_title="yes" align="left" title="Time" link="url:%23|||"
  uncode_shortcode_id="141278" icon_color_type="uncode-palette"]10:00am - 1p
 m[/vc_icon][/vc_column_inner][vc_column_inner column_width_percent="100" al
 ign_horizontal="align_center" gutter_size="2" overlay_alpha="50" shift_x="0
 " shift_y="0" shift_y_down="0" z_index="0" medium_width="2" mobile_width="0
 " width="1/3" uncode_shortcode_id="838225"][vc_icon icon="fa fa-info-circle
 " icon_color="accent" size="fa-3x" text_size="h4" linked_title="yes" align=
 "left" title="More info" link="url:%23|||" uncode_shortcode_id="389266" ico
 n_color_type="uncode-palette"]Visit website >[/vc_icon][/vc_column_inner][/
 vc_row_inner][/vc_column][/vc_row]
LOCATION:Online
DTSTAMP:20260422T112940Z
DTSTART:20240303T100000Z
DTEND:20260422T120000Z
END:VEVENT
END:VCALENDAR
