BEGIN:VCALENDAR
VERSION:2.0
PRODID:-//Eventin//Event Calendar//EN
CALSCALE:GREGORIAN
METHOD:PUBLISH
BEGIN:VEVENT
UID:24615227c80d8cb6aa7f88d0c1dd00f0@activeilkley.org.uk
SUMMARY:Beginners Walk Club- Alpkit
DESCRIPTION:[vc_row row_height_percent="0" override_padding="yes" h_padding
 ="2" top_padding="0" bottom_padding="0" back_color="color-lxmt" overlay_alp
 ha="50" gutter_size="4" column_width_percent="100" shift_y="0" z_index="0" 
 uncode_shortcode_id="897096" back_color_type="uncode-palette"][vc_column co
 lumn_width_percent="100" gutter_size="3" overlay_alpha="50" shift_x="0" shi
 ft_y="0" shift_y_down="0" z_index="0" medium_width="4" mobile_width="0" wid
 th="1/1" el_class="inverted-device-order"][vc_column_text uncode_shortcode_
 id="141884"]Our 3rd Beginners Walk Club is being run by Alpkit Ilkley. It's
  for anyone who fancies a walking group\, but hasn't done much walking in t
 he past or needs to take things a bit more gently. It's a fantastic way to 
 help you get more active and healthy while meeting new people.\n\nIt starts
  at the Alpkit store in Ilkley and takes you along the riverside and stops 
 for tea & cake afterwards. It's free to join! Visit this link to book>[/vc_
 column_text][vc_empty_space empty_h="1"][vc_row_inner row_inner_height_perc
 ent="0" overlay_alpha="50" equal_height="yes" gutter_size="4" shift_y="0"][
 vc_column_inner column_width_percent="100" align_horizontal="align_center" 
 gutter_size="2" overlay_alpha="50" shift_x="0" shift_y="0" shift_y_down="0"
  z_index="0" medium_width="2" mobile_width="0" width="1/3" uncode_shortcode
 _id="193926"][vc_icon icon="fa fa-map3" icon_color="accent" size="fa-3x" te
 xt_size="h4" linked_title="yes" align="left" title="Meet" link="url:%23|||"
  uncode_shortcode_id="207151" icon_color_type="uncode-palette"]\nAlpkit\, I
 lkley\n[/vc_icon][/vc_column_inner][vc_column_inner column_width_percent="1
 00" align_horizontal="align_center" gutter_size="2" overlay_alpha="50" shif
 t_x="0" shift_y="0" shift_y_down="0" z_index="0" medium_width="2" mobile_wi
 dth="0" width="1/3" uncode_shortcode_id="151410"][vc_icon icon="fa fa-clock
 " icon_color="accent" size="fa-3x" text_size="h4" linked_title="yes" align=
 "left" title="Time" link="url:%23|||" uncode_shortcode_id="459420" icon_col
 or_type="uncode-palette"]9:30am-10:30am[/vc_icon][/vc_column_inner][vc_colu
 mn_inner column_width_percent="100" align_horizontal="align_center" gutter_
 size="2" overlay_alpha="50" shift_x="0" shift_y="0" shift_y_down="0" z_inde
 x="0" medium_width="2" mobile_width="0" width="1/3" uncode_shortcode_id="83
 8225"][vc_icon icon="fa fa-info-circle" icon_color="accent" size="fa-3x" te
 xt_size="h4" linked_title="yes" align="left" title="More info" link="url:%2
 3|||" uncode_shortcode_id="163386" icon_color_type="uncode-palette"]Visit w
 ebsite >[/vc_icon][/vc_column_inner][/vc_row_inner][/vc_column][/vc_row]
LOCATION:Online
DTSTAMP:20260422T110127Z
DTSTART:20240322T093000Z
DTEND:20260422T093000Z
END:VEVENT
END:VCALENDAR
