BEGIN:VCALENDAR
VERSION:2.0
PRODID:-//Eventin//Event Calendar//EN
CALSCALE:GREGORIAN
METHOD:PUBLISH
BEGIN:VEVENT
UID:bfd7801ad8c3d866c457e956a8369471@activeilkley.org.uk
SUMMARY:Sue Ryder Wharfedale Pub Walk
DESCRIPTION:[vc_row row_height_percent="0" override_padding="yes" h_padding
 ="2" top_padding="0" bottom_padding="0" back_color="color-lxmt" overlay_alp
 ha="50" gutter_size="4" column_width_percent="100" shift_y="0" z_index="0" 
 uncode_shortcode_id="897096" back_color_type="uncode-palette"][vc_column co
 lumn_width_percent="100" gutter_size="3" overlay_alpha="50" shift_x="0" shi
 ft_y="0" shift_y_down="0" z_index="0" medium_width="4" mobile_width="0" wid
 th="1/1" el_class="inverted-device-order"][vc_column_text uncode_shortcode_
 id="145270"]\nStarting in Threshfield\, there are six refreshment points (f
 ive of these are pubs) and four more in the village of Grassington at the 
 end of the walk.\nThe pubs are The Gamekeepers \, The Old Hall\, The F
 ountaine Inn\, The Red Lion\, The Clarendon\, The Black Horse\, The For
 esters\, The Devonshire Inn and Grassington House.\nThe route is mainly 
 on public footpaths through fields and on the bank of the River Wharfe. The
 y will be well marked but the route is self-guided and walkers are responsi
 ble for themselves at all times.\nTake a look at the walk route> to see wh
 ere you’ll be going on the day.\nAll participants will receive a Pub Walk
  T-shirt.\nThis is a great day for everyone\, whether you’re a group of f
 riends\, colleagues or a family!\nBook your place on the walk here>\nIf you
  have any questions about this event\, please contact Adam Brunskill on ad
 am.brunskill@sueryder.org or 01535 640 441.\n[/vc_column_text][vc_empty_s
 pace empty_h="1"][vc_row_inner row_inner_height_percent="0" overlay_alpha="
 50" equal_height="yes" gutter_size="4" shift_y="0"][vc_column_inner column_
 width_percent="100" align_horizontal="align_center" gutter_size="2" overlay
 _alpha="50" shift_x="0" shift_y="0" shift_y_down="0" z_index="0" medium_wid
 th="2" mobile_width="0" width="1/3" uncode_shortcode_id="193926"][vc_icon i
 con="fa fa-map3" icon_color="accent" size="fa-3x" text_size="h4" linked_tit
 le="yes" align="left" title="Meet" link="url:%23|||" uncode_shortcode_id="2
 13401" icon_color_type="uncode-palette"]Theshfield[/vc_icon][/vc_column_inn
 er][vc_column_inner column_width_percent="100" align_horizontal="align_cent
 er" gutter_size="2" overlay_alpha="50" shift_x="0" shift_y="0" shift_y_down
 ="0" z_index="0" medium_width="2" mobile_width="0" width="1/3" uncode_short
 code_id="151410"][vc_icon icon="fa fa-clock" icon_color="accent" size="fa-3
 x" text_size="h4" linked_title="yes" align="left" title="Time" link="url:%2
 3|||" uncode_shortcode_id="115849" icon_color_type="uncode-palette"]11:30am
 -7pm[/vc_icon][/vc_column_inner][vc_column_inner column_width_percent="100"
  align_horizontal="align_center" gutter_size="2" overlay_alpha="50" shift_x
 ="0" shift_y="0" shift_y_down="0" z_index="0" medium_width="2" mobile_width
 ="0" width="1/3" uncode_shortcode_id="838225"][vc_icon icon="fa fa-info-cir
 cle" icon_color="accent" size="fa-3x" uncode_shortcode_id="547828" icon_col
 or_type="uncode-palette"]Visit website>[/vc_icon][/vc_column_inner][/vc_row
 _inner][/vc_column][/vc_row]
LOCATION:Online
DTSTAMP:20260421T113159Z
DTSTART:20240518T103000Z
DTEND:20260421T180000Z
END:VEVENT
END:VCALENDAR
