BEGIN:VCALENDAR
VERSION:2.0
PRODID:-//Eventin//Event Calendar//EN
CALSCALE:GREGORIAN
METHOD:PUBLISH
BEGIN:VEVENT
UID:1703e75987bb02e01ab6056f31e59ada@activeilkley.org.uk
SUMMARY:Ilkley Moor Guided Walk
DESCRIPTION:[vc_row row_height_percent="0" override_padding="yes" h_padding
 ="2" top_padding="0" bottom_padding="0" back_color="color-lxmt" overlay_alp
 ha="50" gutter_size="4" column_width_percent="100" shift_y="0" z_index="0" 
 uncode_shortcode_id="897096" back_color_type="uncode-palette"][vc_column co
 lumn_width_percent="100" gutter_size="3" overlay_alpha="50" shift_x="0" shi
 ft_y="0" shift_y_down="0" z_index="0" medium_width="4" mobile_width="0" wid
 th="1/1" el_class="inverted-device-order"][vc_column_text uncode_shortcode_
 id="188158"]\n\n\nJoin us for an exciting guided walk on Ilkley Moor\, Sat
  May 18\, 2024\, starting at 10:00 AM when we embark upon journey beyond 
 the cow and calf car park that so few others choose to do.\n\nExplore the r
 ich history and breathtaking natural beauty of this lesser-known area. Led 
 by experienced and local guide Bill of Hills In Mind\, this event offers a 
 unique opportunity to uncover the secrets of Ilkley Moor. Discover myths an
 d legends from a mere 7000 years ago\, meandering paths\, and stunning view
 s of the Wharfe valley that will leave you in awe.\n\nWhether you are a nat
 ure enthusiast\, new to walking \, or simply looking for a fun day out\, th
 is guided walk is perfect for you. Immerse yourself in the tranquility of t
 he moor\, breathe in the fresh air\, and connect with nature.\n\nDon't miss
  this chance to experience Ilkley Moor that so many never see. Lace up your
  walking boots\, pack some snacks\, and join us for a fun day out. Book you
 r spot now and get ready to explore the unknown>\n\n\n[/vc_column_text][vc_
 empty_space empty_h="1"][vc_row_inner row_inner_height_percent="0" overlay_
 alpha="50" equal_height="yes" gutter_size="4" shift_y="0"][vc_column_inner 
 column_width_percent="100" align_horizontal="align_center" gutter_size="2" 
 overlay_alpha="50" shift_x="0" shift_y="0" shift_y_down="0" z_index="0" med
 ium_width="2" mobile_width="0" width="1/3" uncode_shortcode_id="193926"][vc
 _icon icon="fa fa-map3" icon_color="accent" size="fa-3x" text_size="h4" lin
 ked_title="yes" align="left" title="Meet" link="url:%23|||" uncode_shortcod
 e_id="170059" icon_color_type="uncode-palette"]Ilkley Moor Car Park[/vc_ico
 n][/vc_column_inner][vc_column_inner column_width_percent="100" align_horiz
 ontal="align_center" gutter_size="2" overlay_alpha="50" shift_x="0" shift_y
 ="0" shift_y_down="0" z_index="0" medium_width="2" mobile_width="0" width="
 1/3" uncode_shortcode_id="151410"][vc_icon icon="fa fa-clock" icon_color="a
 ccent" size="fa-3x" text_size="h4" linked_title="yes" align="left" title="T
 ime" link="url:%23|||" uncode_shortcode_id="599146" icon_color_type="uncode
 -palette"]9:45am-2pm[/vc_icon][/vc_column_inner][vc_column_inner column_wid
 th_percent="100" align_horizontal="align_center" gutter_size="2" overlay_al
 pha="50" shift_x="0" shift_y="0" shift_y_down="0" z_index="0" medium_width=
 "2" mobile_width="0" width="1/3" uncode_shortcode_id="838225"][vc_icon icon
 ="fa fa-info-circle" icon_color="accent" size="fa-3x" uncode_shortcode_id="
 204460" icon_color_type="uncode-palette"]Visit website>[/vc_icon][/vc_colum
 n_inner][/vc_row_inner][/vc_column][/vc_row]
LOCATION:Online
DTSTAMP:20260421T114256Z
DTSTART:20240518T084500Z
DTEND:20260421T130000Z
END:VEVENT
END:VCALENDAR
