BEGIN:VCALENDAR
VERSION:2.0
PRODID:-//Eventin//Event Calendar//EN
CALSCALE:GREGORIAN
METHOD:PUBLISH
BEGIN:VEVENT
UID:75d4cf75040293b19432aeb9cdf70e4e@activeilkley.org.uk
SUMMARY:Sun Lane Nature Reserve- Burley Walkers are Welcome
DESCRIPTION:[vc_row row_height_percent="0" override_padding="yes" h_padding
 ="2" top_padding="0" bottom_padding="0" back_color="color-lxmt" overlay_alp
 ha="50" gutter_size="4" column_width_percent="100" shift_y="0" z_index="0" 
 uncode_shortcode_id="897096" back_color_type="uncode-palette"][vc_column co
 lumn_width_percent="100" gutter_size="3" overlay_alpha="50" shift_x="0" shi
 ft_y="0" shift_y_down="0" z_index="0" medium_width="4" mobile_width="0" wid
 th="1/1" el_class="inverted-device-order"][vc_column_text uncode_shortcode_
 id="116727"]\n\n\nThe 3 mile walk this month is led by Dave Hawkins\, and w
 ill include Sun Lane Nature Reserve and the wildlife rich area of Burley We
 ir and the Goit.  Meet at Burley Station at 10.00.\n\n\n\n\nGoing along So
 uthfield Road to Sun Lane\, we will walk around the perimeter of the Nature
  Reserve before heading to Leatherbank  via  Sun Lane and Main Street. 
  After reaching Burley Weir\, we will walk along the Goit\, keeping an eye 
 open for kingfishers and other bird life\, then up to Great Pasture via the
  footpath under construction. Return to the village will be along Iron Row\
 , with refreshments at Cockpit Farm tea rooms.  There are gentle gradients
  around the nature reserve\, probably with some muddy paths in places.\n\n\
 n[/vc_column_text][vc_empty_space empty_h="1"][vc_row_inner row_inner_heigh
 t_percent="0" overlay_alpha="50" equal_height="yes" gutter_size="4" shift_y
 ="0"][vc_column_inner column_width_percent="100" align_horizontal="align_ce
 nter" gutter_size="2" overlay_alpha="50" shift_x="0" shift_y="0" shift_y_do
 wn="0" z_index="0" medium_width="2" mobile_width="0" width="1/3" uncode_sho
 rtcode_id="193926"][vc_icon icon="fa fa-map3" icon_color="accent" size="fa-
 3x" text_size="h4" linked_title="yes" align="left" title="Meet" link="url:%
 23|||" uncode_shortcode_id="722269" icon_color_type="uncode-palette"]Burley
  Train Station[/vc_icon][/vc_column_inner][vc_column_inner column_width_per
 cent="100" align_horizontal="align_center" gutter_size="2" overlay_alpha="5
 0" shift_x="0" shift_y="0" shift_y_down="0" z_index="0" medium_width="2" mo
 bile_width="0" width="1/3" uncode_shortcode_id="151410"][vc_icon icon="fa f
 a-clock" icon_color="accent" size="fa-3x" text_size="h4" linked_title="yes"
  align="left" title="Time" link="url:%23|||" uncode_shortcode_id="110530" i
 con_color_type="uncode-palette"]10 am[/vc_icon][/vc_column_inner][vc_column
 _inner column_width_percent="100" align_horizontal="align_center" gutter_si
 ze="2" overlay_alpha="50" shift_x="0" shift_y="0" shift_y_down="0" z_index=
 "0" medium_width="2" mobile_width="0" width="1/3" uncode_shortcode_id="8382
 25"][vc_icon icon="fa fa-info-circle" icon_color="accent" size="fa-3x" text
 _size="h4" linked_title="yes" align="left" title="More info" link="url:%23|
 ||" uncode_shortcode_id="130678" icon_color_type="uncode-palette"]Visit web
 site >[/vc_icon][/vc_column_inner][/vc_row_inner][/vc_column][/vc_row]
LOCATION:Online
DTSTAMP:20260421T101246Z
DTSTART:20240301T100000Z
DTEND:20260421T120000Z
END:VEVENT
END:VCALENDAR
