BEGIN:VCALENDAR
VERSION:2.0
PRODID:-//Eventin//Event Calendar//EN
CALSCALE:GREGORIAN
METHOD:PUBLISH
BEGIN:VEVENT
UID:e242e0a166d1d3aeb344f0632dfbba44@activeilkley.org.uk
SUMMARY:Burley Riverside- Burley Walkers are Welcome
DESCRIPTION:[vc_row row_height_percent="0" override_padding="yes" h_padding
 ="2" top_padding="0" bottom_padding="0" back_color="color-lxmt" overlay_alp
 ha="50" gutter_size="4" column_width_percent="100" shift_y="0" z_index="0" 
 uncode_shortcode_id="897096" back_color_type="uncode-palette"][vc_column co
 lumn_width_percent="100" gutter_size="3" overlay_alpha="50" shift_x="0" shi
 ft_y="0" shift_y_down="0" z_index="0" medium_width="4" mobile_width="0" wid
 th="1/1" el_class="inverted-device-order"][vc_column_text uncode_shortcode_
 id="471878"]\n\n\nDave Hawkins will lead a 3 mile walk along the riverside 
 path towards Otley.  Meet at Burley Station at 10.00.\n\n\n\n\nHeading to 
 the river along Station Road and Iron Row\, we will first walk along the wo
 oded riverside path followed by the water meadow path to the main road. R
 eturn to Burley is along Otley Old Road for refreshments at Cockpit Farm te
 a rooms. \n\n\n[/vc_column_text][vc_empty_space empty_h="1"][vc_row_inner 
 row_inner_height_percent="0" overlay_alpha="50" equal_height="yes" gutter_s
 ize="4" shift_y="0"][vc_column_inner column_width_percent="100" align_horiz
 ontal="align_center" gutter_size="2" overlay_alpha="50" shift_x="0" shift_y
 ="0" shift_y_down="0" z_index="0" medium_width="2" mobile_width="0" width="
 1/3" uncode_shortcode_id="193926"][vc_icon icon="fa fa-map3" icon_color="ac
 cent" size="fa-3x" text_size="h4" linked_title="yes" align="left" title="Me
 et" link="url:%23|||" uncode_shortcode_id="722269" icon_color_type="uncode-
 palette"]Burley Train Station[/vc_icon][/vc_column_inner][vc_column_inner c
 olumn_width_percent="100" align_horizontal="align_center" gutter_size="2" o
 verlay_alpha="50" shift_x="0" shift_y="0" shift_y_down="0" z_index="0" medi
 um_width="2" mobile_width="0" width="1/3" uncode_shortcode_id="151410"][vc_
 icon icon="fa fa-clock" icon_color="accent" size="fa-3x" text_size="h4" lin
 ked_title="yes" align="left" title="Time" link="url:%23|||" uncode_shortcod
 e_id="110530" icon_color_type="uncode-palette"]10 am[/vc_icon][/vc_column_i
 nner][vc_column_inner column_width_percent="100" align_horizontal="align_ce
 nter" gutter_size="2" overlay_alpha="50" shift_x="0" shift_y="0" shift_y_do
 wn="0" z_index="0" medium_width="2" mobile_width="0" width="1/3" uncode_sho
 rtcode_id="838225"][vc_icon icon="fa fa-info-circle" icon_color="accent" si
 ze="fa-3x" text_size="h4" linked_title="yes" align="left" title="More info"
  link="url:%23|||" uncode_shortcode_id="130678" icon_color_type="uncode-pal
 ette"]Visit website >[/vc_icon][/vc_column_inner][/vc_row_inner][/vc_column
 ][/vc_row]
LOCATION:Online
DTSTAMP:20260421T100954Z
DTSTART:20240405T090000Z
DTEND:20260421T120000Z
END:VEVENT
END:VCALENDAR
