BEGIN:VCALENDAR
VERSION:2.0
PRODID:-//Eventin//Event Calendar//EN
CALSCALE:GREGORIAN
METHOD:PUBLISH
BEGIN:VEVENT
UID:1452b01290ff2b164c5f8cd15a7cb49d@activeilkley.org.uk
SUMMARY:The Big Green Hike
DESCRIPTION:[vc_row row_height_percent="0" override_padding="yes" h_padding
 ="2" top_padding="0" bottom_padding="0" back_color="color-lxmt" overlay_alp
 ha="50" gutter_size="4" column_width_percent="100" shift_y="0" z_index="0" 
 uncode_shortcode_id="897096" back_color_type="uncode-palette"][vc_column co
 lumn_width_percent="100" gutter_size="3" overlay_alpha="50" shift_x="0" shi
 ft_y="0" shift_y_down="0" z_index="0" medium_width="4" mobile_width="0" wid
 th="1/1" el_class="inverted-device-order"][vc_column_text uncode_shortcode_
 id="118210"]\nJoin the Yorkshire Rewilding Network for the Big Green Hike a
 t Harewood\, near Leeds\,\non Saturday 6th April 2024 14.00 – 17.00\nRais
 e money and awareness for rewilding whilst enjoying the great outdoors!\n\n
 Take part with us or arrange your own Big Green Hike.\n\nThe Big Green Hi
 ke is a nationwide event to raise money for environmental charities and w
 e invite you to join us at our very own BGH event.\n\nYorkshire Rewilding N
 etwork volunteers and committee members will be doing a sponsored walk aro
 und the rewilding Harewood Estate to raise funds for our wonderful charity 
 and would love you to come along and do your sponsored walk along side us. 
 We will stop off at Muddy Boots Cafe part way round and there will be lots 
 of opportunities to mingle and meet other rewilders.\n\nFor further details
  on how to join in with the Big Green Hike\, visit the website here>[/vc_co
 lumn_text][vc_empty_space empty_h="1"][vc_row_inner row_inner_height_percen
 t="0" overlay_alpha="50" equal_height="yes" gutter_size="4" shift_y="0"][vc
 _column_inner column_width_percent="100" align_horizontal="align_center" gu
 tter_size="2" overlay_alpha="50" shift_x="0" shift_y="0" shift_y_down="0" z
 _index="0" medium_width="2" mobile_width="0" width="1/3" uncode_shortcode_i
 d="193926"][vc_icon icon="fa fa-map3" icon_color="accent" size="fa-3x" text
 _size="h4" linked_title="yes" align="left" title="Meet" link="url:%23|||" u
 ncode_shortcode_id="122682" icon_color_type="uncode-palette"]Harewood Estat
 e[/vc_icon][/vc_column_inner][vc_column_inner column_width_percent="100" al
 ign_horizontal="align_center" gutter_size="2" overlay_alpha="50" shift_x="0
 " shift_y="0" shift_y_down="0" z_index="0" medium_width="2" mobile_width="0
 " width="1/3" uncode_shortcode_id="151410"][vc_icon icon="fa fa-clock" icon
 _color="accent" size="fa-3x" text_size="h4" linked_title="yes" align="left"
  title="Time" link="url:%23|||" uncode_shortcode_id="200130" icon_color_typ
 e="uncode-palette"]2pm-5pm[/vc_icon][/vc_column_inner][vc_column_inner colu
 mn_width_percent="100" align_horizontal="align_center" gutter_size="2" over
 lay_alpha="50" shift_x="0" shift_y="0" shift_y_down="0" z_index="0" medium_
 width="2" mobile_width="0" width="1/3" uncode_shortcode_id="838225"][vc_ico
 n icon="fa fa-info-circle" icon_color="accent" size="fa-3x" text_size="h4" 
 linked_title="yes" align="left" title="More info" link="url:%23|||" uncode_
 shortcode_id="171000" icon_color_type="uncode-palette"]Visit website >[/vc_
 icon][/vc_column_inner][/vc_row_inner][/vc_column][/vc_row]
LOCATION:Online
DTSTAMP:20260421T105741Z
DTSTART:20240406T130000Z
DTEND:20260421T160000Z
END:VEVENT
END:VCALENDAR
