BEGIN:VCALENDAR
VERSION:2.0
PRODID:-//Eventin//Event Calendar//EN
CALSCALE:GREGORIAN
METHOD:PUBLISH
BEGIN:VEVENT
UID:a77817340ffa9fda08c84416f75ecbaa@activeilkley.org.uk
SUMMARY:The Yorkshire Dales Strollers
DESCRIPTION:[vc_row row_height_percent="0" override_padding="yes" h_padding
 ="2" top_padding="0" bottom_padding="0" back_color="color-lxmt" overlay_alp
 ha="50" gutter_size="4" column_width_percent="100" shift_y="0" z_index="0" 
 uncode_shortcode_id="897096" back_color_type="uncode-palette"][vc_column co
 lumn_width_percent="100" gutter_size="3" overlay_alpha="50" shift_x="0" shi
 ft_y="0" shift_y_down="0" z_index="0" medium_width="4" mobile_width="0" wid
 th="1/1" el_class="inverted-device-order"][vc_custom_heading auto_text="yes
 " heading_semantic="h1" text_size="fontsize-155944" uncode_shortcode_id="24
 4188"][/vc_custom_heading][vc_column_text uncode_shortcode_id="129624"]Gett
 ing there – Catch the 864 Malham Bus from:\n\n 	Bottom of Sunbridge Rd (B
 radford City Centre) @ 9.25am\n 	Bottom of Oak Lane on Keighley Rd @ 9.30am
 \n 	Shipley Market Square @ 9.40am\n 	Charlestown Baildon @ 9.45am\n 	Burle
 y In Wharfedale @ 9.58am\n 	Ilkley Bus Station @10.10am (the walk leader Mu
 ppett will join the bus here)\n\n**(Don’t forget the clocks change on Mar
 ch 30th )**\nPlease note – this walk is liable to be very muddy for most 
 of its course\, so please come in suitable footwear.\n\nCome along for a Sp
 ring Walk (approx 4 miles) and see if you can spot some real Easter Bunnies
  along the way!!!!\n\nThe Walk starts on the Village green at the picturesq
 ue village of Airton\, we’ll then head down a country lane for a few hund
 red yards until we reach the river. We’ll then walk along the banks of th
 e infant river Aire\, following the Pennine Way for a couple of miles till 
 we reach Hanlith Bridge. After crossing the bridge\, we’ll follow a track
 way leading to an old mill now converted into a row of cottages. At the bac
 k of the cottages\, we’ll walk alongside an old Goit (A small artificial 
 channel carrying water\, built to feed mills). Which if we are lucky it’l
 l be filled with\, frogs\, toads\, newts and frogspawn and we’ll able to 
 spot them amongst the pondweed. From here the path will take us through a s
 eries of fields and on the way we’ll pass Aire Head\, where the river Air
 e emerges above ground again after flowing underground from Malham Tarn a c
 ouple or so miles away. We’ll then follow Malham beck into the village of
  Malham.\n\nYou have an option then to catch the 2.50pm 864 bus to Skipton 
 which connects to the 3.30pm 873 bus to Ilkley and this in turn connects to
  a train to Burley In Wharfedale\, Baildon\, Shipley & Bradford.\nAlternati
 vely you can enjoy the cafés and pubs or explore the area further and catc
 h the 4.40pm 864 Bus that Heads back to Bradford.\nFor More details on the 
 bus times see this link\;  dalesbus.pdf[/vc_column_text][vc_empty_space em
 pty_h="1"][vc_row_inner row_inner_height_percent="0" overlay_alpha="50" equ
 al_height="yes" gutter_size="4" shift_y="0"][vc_column_inner column_width_p
 ercent="100" align_horizontal="align_center" gutter_size="2" overlay_alpha=
 "50" shift_x="0" shift_y="0" shift_y_down="0" z_index="0" medium_width="2" 
 mobile_width="0" width="1/3" uncode_shortcode_id="193926"][vc_icon icon="fa
  fa-map3" icon_color="accent" size="fa-3x" text_size="h4" linked_title="yes
 " align="left" title="Meet" link="url:%23|||" uncode_shortcode_id="172935" 
 icon_color_type="uncode-palette"]Burley\, Ilkley or Airton[/vc_icon][/vc_co
 lumn_inner][vc_column_inner column_width_percent="100" align_horizontal="al
 ign_center" gutter_size="2" overlay_alpha="50" shift_x="0" shift_y="0" shif
 t_y_down="0" z_index="0" medium_width="2" mobile_width="0" width="1/3" unco
 de_shortcode_id="151410"][vc_icon icon="fa fa-clock" icon_color="accent" si
 ze="fa-3x" text_size="h4" linked_title="yes" align="left" title="Time" link
 ="url:%23|||" uncode_shortcode_id="119761" icon_color_type="uncode-palette"
 ]See details above- depends on how you intend to get there.[/vc_icon][/vc_c
 olumn_inner][vc_column_inner column_width_percent="100" align_horizontal="a
 lign_center" gutter_size="2" overlay_alpha="50" shift_x="0" shift_y="0" shi
 ft_y_down="0" z_index="0" medium_width="2" mobile_width="0" width="1/3" unc
 ode_shortcode_id="838225"][vc_icon icon="fa fa-info-circle" icon_color="acc
 ent" size="fa-3x" text_size="h4" linked_title="yes" align="left" title="Mor
 e info" link="url:%23|||" uncode_shortcode_id="104118" icon_color_type="unc
 ode-palette"]Visit website >[/vc_icon][/vc_column_inner][/vc_row_inner][/vc
 _column][/vc_row]
LOCATION:Online
DTSTAMP:20260421T101345Z
DTSTART:20240331T101000Z
DTEND:20260421T135000Z
END:VEVENT
END:VCALENDAR
