BEGIN:VCALENDAR
VERSION:2.0
PRODID:-//Eventin//Event Calendar//EN
CALSCALE:GREGORIAN
METHOD:PUBLISH
BEGIN:VEVENT
UID:836e738eb746b9fb531e81faa890b202@activeilkley.org.uk
SUMMARY:The Yorkshire Dales Strollers
DESCRIPTION:[vc_row row_height_percent="0" override_padding="yes" h_padding
 ="2" top_padding="0" bottom_padding="0" back_color="color-lxmt" overlay_alp
 ha="50" gutter_size="4" column_width_percent="100" shift_y="0" z_index="0" 
 uncode_shortcode_id="897096" back_color_type="uncode-palette"][vc_column co
 lumn_width_percent="100" gutter_size="3" overlay_alpha="50" shift_x="0" shi
 ft_y="0" shift_y_down="0" z_index="0" medium_width="4" mobile_width="0" wid
 th="1/1" el_class="inverted-device-order"][vc_custom_heading auto_text="yes
 " heading_semantic="h1" text_size="fontsize-155944" uncode_shortcode_id="24
 4188"][/vc_custom_heading][vc_column_text uncode_shortcode_id="442948"]\nMo
 derate 4 ½ miles.\nGetting there – Catch the 864 Malham Bus from\nBus St
 op B1 on Bridge St. (opp the Interchange) @ 9.25am\nBus Stop L On Cheapside
  (opp Midland Hotel @ 9.27am\nBottom of Oak Lane on Keighley Rd @ 9.30am\nS
 hipley Market Square @ 9.40am\nCharlestown Baildon @ 9.45am\nBurley In Whar
 fedale @ 9.58am\nIn Ilkley Transfer onto the 10.12 am 874 Buckden Bus\n(the
  walk leader Muppett will be on it)\nIt’ll be a single decker York Pullma
 n bus\n(Don’t get on the double decker Hawes Bus!!!!!)\n\nWe will start f
 rom the bus shelter at Linton Crossroads and walk along the road into the s
 cenic village of Linton. From there we follow a path through several fields
  and follow a back lane into the hidden hamlet of Thorpe. From here we’ll
  then head down to the Grassington road and head through the fields down to
  Hebden Suspension Bridge and head up to Hebden. From here we’ll then hea
 d through the fields\, passing through the wildflower meadows in the former
  grounds of Hebden Hospital\, then head along High Lane and finish in Grass
 ington.\n\nYou have an option then to catch the 3.00pm 72 bus to Skipton wh
 ich connects to the 3.30pm 873 bus to Ilkley and this in turn connects to a
  train and bus connections to Burley\, Baildon\, Shipley & Bradford.\nAlter
 natively you can enjoy the cafés and pubs or explore the area further and 
 catch the 4.53pm 874 Bus that heads back to Ilkley and connects with the 5.
 45\, 864 bus to Bradford\nFor more details on the bus times see this link\;
  dalesbus.pdf[/vc_column_text][vc_empty_space empty_h="1"][vc_row_inner row
 _inner_height_percent="0" overlay_alpha="50" equal_height="yes" gutter_size
 ="4" shift_y="0"][vc_column_inner column_width_percent="100" align_horizont
 al="align_center" gutter_size="2" overlay_alpha="50" shift_x="0" shift_y="0
 " shift_y_down="0" z_index="0" medium_width="2" mobile_width="0" width="1/3
 " uncode_shortcode_id="193926"][vc_icon icon="fa fa-map3" icon_color="accen
 t" size="fa-3x" text_size="h4" linked_title="yes" align="left" title="Meet"
  link="url:%23|||" uncode_shortcode_id="113918" icon_color_type="uncode-pal
 ette"]Ilkley or Linton[/vc_icon][/vc_column_inner][vc_column_inner column_w
 idth_percent="100" align_horizontal="align_center" gutter_size="2" overlay_
 alpha="50" shift_x="0" shift_y="0" shift_y_down="0" z_index="0" medium_widt
 h="2" mobile_width="0" width="1/3" uncode_shortcode_id="151410"][vc_icon ic
 on="fa fa-clock" icon_color="accent" size="fa-3x" text_size="h4" linked_tit
 le="yes" align="left" title="Time" link="url:%23|||" uncode_shortcode_id="1
 19761" icon_color_type="uncode-palette"]See details above- depends on how y
 ou intend to get there.[/vc_icon][/vc_column_inner][vc_column_inner column_
 width_percent="100" align_horizontal="align_center" gutter_size="2" overlay
 _alpha="50" shift_x="0" shift_y="0" shift_y_down="0" z_index="0" medium_wid
 th="2" mobile_width="0" width="1/3" uncode_shortcode_id="838225"][vc_icon i
 con="fa fa-info-circle" icon_color="accent" size="fa-3x" text_size="h4" lin
 ked_title="yes" align="left" title="More info" link="url:%23|||" uncode_sho
 rtcode_id="104118" icon_color_type="uncode-palette"]Visit website >[/vc_ico
 n][/vc_column_inner][/vc_row_inner][/vc_column][/vc_row]
LOCATION:Online
DTSTAMP:20260421T102614Z
DTSTART:20240428T092000Z
DTEND:20260421T150000Z
END:VEVENT
END:VCALENDAR
