BEGIN:VCALENDAR
VERSION:2.0
PRODID:-//Eventin//Event Calendar//EN
CALSCALE:GREGORIAN
METHOD:PUBLISH
BEGIN:VEVENT
UID:8da221ef498b91b12cb6058e04621526@activeilkley.org.uk
SUMMARY:Birding- Gouthwaite and Scar House - Wharfedale Naturalists’ Soci
 ety
DESCRIPTION:[vc_row row_height_percent="0" override_padding="yes" h_padding
 ="2" top_padding="0" bottom_padding="0" back_color="color-lxmt" overlay_alp
 ha="50" gutter_size="4" column_width_percent="100" shift_y="0" z_index="0" 
 uncode_shortcode_id="897096" back_color_type="uncode-palette"][vc_column co
 lumn_width_percent="100" gutter_size="3" overlay_alpha="50" shift_x="0" shi
 ft_y="0" shift_y_down="0" z_index="0" medium_width="4" mobile_width="0" wid
 th="1/1" el_class="inverted-device-order"][vc_column_text uncode_shortcode_
 id="148990"]Gouthwaite and Scar House—Ring Ouzels\nMeet 10am at small car
  park at Gouthwaite Reservoir\nSE124699.\nLeader: David Smith - 07773 71693
 0\n\nPlease ensure you ring the Leader if planning to attend and\ncancel ex
 plicitly if you need to to do so. Please car-share if\npossible. Meet at si
 te at time stated. Bring lunch\, if desired.\nBring RSPB /YWT card where ap
 propriate. More details and directions from Leader. Visit the Wharfedale Na
 turalists' website>[/vc_column_text][vc_empty_space empty_h="1"][vc_row_inn
 er row_inner_height_percent="0" overlay_alpha="50" equal_height="yes" gutte
 r_size="4" shift_y="0"][vc_column_inner column_width_percent="100" align_ho
 rizontal="align_center" gutter_size="2" overlay_alpha="50" shift_x="0" shif
 t_y="0" shift_y_down="0" z_index="0" medium_width="2" mobile_width="0" widt
 h="1/3" uncode_shortcode_id="193926"][vc_icon icon="fa fa-map3" icon_color=
 "accent" size="fa-3x" text_size="h4" linked_title="yes" align="left" title=
 "Meet" link="url:%23|||" uncode_shortcode_id="132400" icon_color_type="unco
 de-palette"]Gouthwaite Reservoir small car park[/vc_icon][/vc_column_inner]
 [vc_column_inner column_width_percent="100" align_horizontal="align_center"
  gutter_size="2" overlay_alpha="50" shift_x="0" shift_y="0" shift_y_down="0
 " z_index="0" medium_width="2" mobile_width="0" width="1/3" uncode_shortcod
 e_id="151410"][vc_icon icon="fa fa-clock" icon_color="accent" size="fa-3x" 
 text_size="h4" linked_title="yes" align="left" title="Time" link="url:%23||
 |" uncode_shortcode_id="921804" icon_color_type="uncode-palette"]10 am[/vc_
 icon][/vc_column_inner][vc_column_inner column_width_percent="100" align_ho
 rizontal="align_center" gutter_size="2" overlay_alpha="50" shift_x="0" shif
 t_y="0" shift_y_down="0" z_index="0" medium_width="2" mobile_width="0" widt
 h="1/3" uncode_shortcode_id="838225"][vc_icon icon="fa fa-info-circle" icon
 _color="accent" size="fa-3x" text_size="h4" linked_title="yes" align="left"
  title="More info" link="url:%23|||" uncode_shortcode_id="150251" icon_colo
 r_type="uncode-palette"]Download PDF >[/vc_icon][/vc_column_inner][/vc_row_
 inner][/vc_column][/vc_row]
LOCATION:Online
DTSTAMP:20260421T054235Z
DTSTART:20240511T090000Z
DTEND:20260421T110000Z
END:VEVENT
END:VCALENDAR
