BEGIN:VCALENDAR
VERSION:2.0
PRODID:-//Eventin//Event Calendar//EN
CALSCALE:GREGORIAN
METHOD:PUBLISH
BEGIN:VEVENT
UID:a88889ac31332f0738248425b74e824e@activeilkley.org.uk
SUMMARY:Birding- Stainburn Forest Nightjars - Wharfedale Naturalists’ Soc
 iety
DESCRIPTION:[vc_row row_height_percent="0" override_padding="yes" h_padding
 ="2" top_padding="0" bottom_padding="0" back_color="color-lxmt" overlay_alp
 ha="50" gutter_size="4" column_width_percent="100" shift_y="0" z_index="0" 
 uncode_shortcode_id="897096" back_color_type="uncode-palette"][vc_column co
 lumn_width_percent="100" gutter_size="3" overlay_alpha="50" shift_x="0" shi
 ft_y="0" shift_y_down="0" z_index="0" medium_width="4" mobile_width="0" wid
 th="1/1" el_class="inverted-device-order"][vc_column_text uncode_shortcode_
 id="201044"]Stainburn Forest—Nightjars\nMeet 9pm at Stainburn Moor car pa
 rk SE236522\nBe prepared to stay until dark\; a torch is useful.\nInsect re
 pellent may be needed.\nLeader: Derek Parkin - 01943 864036\n\nPlease ensur
 e you ring the Leader if planning to attend and\ncancel explicitly if you n
 eed to to do so. Please car-share if\npossible. Meet at site at time stated
 . Bring lunch\, if desired.\nBring RSPB /YWT card where appropriate. More d
 etails and directions from Leader. Visit the Wharfedale Naturalists' websit
 e>[/vc_column_text][vc_empty_space empty_h="1"][vc_row_inner row_inner_heig
 ht_percent="0" overlay_alpha="50" equal_height="yes" gutter_size="4" shift_
 y="0"][vc_column_inner column_width_percent="100" align_horizontal="align_c
 enter" gutter_size="2" overlay_alpha="50" shift_x="0" shift_y="0" shift_y_d
 own="0" z_index="0" medium_width="2" mobile_width="0" width="1/3" uncode_sh
 ortcode_id="193926"][vc_icon icon="fa fa-map3" icon_color="accent" size="fa
 -3x" text_size="h4" linked_title="yes" align="left" title="Meet" link="url:
 %23|||" uncode_shortcode_id="355334" icon_color_type="uncode-palette"]Stain
 burn Moor car park[/vc_icon][/vc_column_inner][vc_column_inner column_width
 _percent="100" align_horizontal="align_center" gutter_size="2" overlay_alph
 a="50" shift_x="0" shift_y="0" shift_y_down="0" z_index="0" medium_width="2
 " mobile_width="0" width="1/3" uncode_shortcode_id="151410"][vc_icon icon="
 fa fa-clock" icon_color="accent" size="fa-3x" text_size="h4" linked_title="
 yes" align="left" title="Time" link="url:%23|||" uncode_shortcode_id="86923
 5" icon_color_type="uncode-palette"]9pm[/vc_icon][/vc_column_inner][vc_colu
 mn_inner column_width_percent="100" align_horizontal="align_center" gutter_
 size="2" overlay_alpha="50" shift_x="0" shift_y="0" shift_y_down="0" z_inde
 x="0" medium_width="2" mobile_width="0" width="1/3" uncode_shortcode_id="83
 8225"][vc_icon icon="fa fa-info-circle" icon_color="accent" size="fa-3x" te
 xt_size="h4" linked_title="yes" align="left" title="More info" link="url:%2
 3|||" uncode_shortcode_id="150251" icon_color_type="uncode-palette"]Downloa
 d PDF >[/vc_icon][/vc_column_inner][/vc_row_inner][/vc_column][/vc_row]
LOCATION:Online
DTSTAMP:20260421T054341Z
DTSTART:20240613T200000Z
DTEND:20260421T220000Z
END:VEVENT
END:VCALENDAR
