BEGIN:VCALENDAR
VERSION:2.0
PRODID:-//Eventin//Event Calendar//EN
CALSCALE:GREGORIAN
METHOD:PUBLISH
BEGIN:VEVENT
UID:1bc6d5d5aa6b111e736a292bfba483ed@activeilkley.org.uk
SUMMARY:Improve Your Skills- Butterflies - Wharfedale Naturalists’ Societ
 y
DESCRIPTION:[vc_row row_height_percent="0" override_padding="yes" h_padding
 ="2" top_padding="0" bottom_padding="0" back_color="color-lxmt" overlay_alp
 ha="50" gutter_size="4" column_width_percent="100" shift_y="0" z_index="0" 
 uncode_shortcode_id="897096" back_color_type="uncode-palette"][vc_column co
 lumn_width_percent="100" gutter_size="3" overlay_alpha="50" shift_x="0" shi
 ft_y="0" shift_y_down="0" z_index="0" medium_width="4" mobile_width="0" wid
 th="1/1" el_class="inverted-device-order"][vc_column_text uncode_shortcode_
 id="159044"]Butterflies: Stainburn Forest\, ID Day/walk\nLearn to identify 
 a variety of butterflies\, with chance of a\ngreen hairstreak. Meet 12.30pm
  at SE225506\, limited parking. Bring binoculars\, if possible. Weather-dep
 endent\; please contact leader: Nyree Fearnley 07811 066971 ahead of time.\
 n\nPlease ensure you ring the Leader if planning to attend and\ncancel expl
 icitly if you need to to do so. Please car-share if\npossible. Meet at site
  at time stated. Bring lunch\, if desired.\nBring RSPB /YWT card where appr
 opriate. More details and directions from Leader. Visit the Wharfedale Natu
 ralists' website>[/vc_column_text][vc_empty_space empty_h="1"][vc_row_inner
  row_inner_height_percent="0" overlay_alpha="50" equal_height="yes" gutter_
 size="4" shift_y="0"][vc_column_inner column_width_percent="100" align_hori
 zontal="align_center" gutter_size="2" overlay_alpha="50" shift_x="0" shift_
 y="0" shift_y_down="0" z_index="0" medium_width="2" mobile_width="0" width=
 "1/3" uncode_shortcode_id="193926"][vc_icon icon="fa fa-map3" icon_color="a
 ccent" size="fa-3x" text_size="h4" linked_title="yes" align="left" title="M
 eet" link="url:%23|||" uncode_shortcode_id="128758" icon_color_type="uncode
 -palette"]Stainburn Forest[/vc_icon][/vc_column_inner][vc_column_inner colu
 mn_width_percent="100" align_horizontal="align_center" gutter_size="2" over
 lay_alpha="50" shift_x="0" shift_y="0" shift_y_down="0" z_index="0" medium_
 width="2" mobile_width="0" width="1/3" uncode_shortcode_id="151410"][vc_ico
 n icon="fa fa-clock" icon_color="accent" size="fa-3x" text_size="h4" linked
 _title="yes" align="left" title="Time" link="url:%23|||" uncode_shortcode_i
 d="557659" icon_color_type="uncode-palette"]12:30pm[/vc_icon][/vc_column_in
 ner][vc_column_inner column_width_percent="100" align_horizontal="align_cen
 ter" gutter_size="2" overlay_alpha="50" shift_x="0" shift_y="0" shift_y_dow
 n="0" z_index="0" medium_width="2" mobile_width="0" width="1/3" uncode_shor
 tcode_id="838225"][vc_icon icon="fa fa-info-circle" icon_color="accent" siz
 e="fa-3x" text_size="h4" linked_title="yes" align="left" title="More info" 
 link="url:%23|||" uncode_shortcode_id="150251" icon_color_type="uncode-pale
 tte"]Download PDF >[/vc_icon][/vc_column_inner][/vc_row_inner][/vc_column][
 /vc_row]
LOCATION:Online
DTSTAMP:20260421T054800Z
DTSTART:20240511T113000Z
DTEND:20260421T133000Z
END:VEVENT
END:VCALENDAR
