BEGIN:VCALENDAR
VERSION:2.0
PRODID:-//Eventin//Event Calendar//EN
CALSCALE:GREGORIAN
METHOD:PUBLISH
BEGIN:VEVENT
UID:d1266be57bcb24699afe7a9a2df0d8cd@activeilkley.org.uk
SUMMARY:Improve Your Skills- Butterflies - Wharfedale Naturalists’ Societ
 y
DESCRIPTION:[vc_row row_height_percent="0" override_padding="yes" h_padding
 ="2" top_padding="0" bottom_padding="0" back_color="color-lxmt" overlay_alp
 ha="50" gutter_size="4" column_width_percent="100" shift_y="0" z_index="0" 
 uncode_shortcode_id="897096" back_color_type="uncode-palette"][vc_column co
 lumn_width_percent="100" gutter_size="3" overlay_alpha="50" shift_x="0" shi
 ft_y="0" shift_y_down="0" z_index="0" medium_width="4" mobile_width="0" wid
 th="1/1" el_class="inverted-device-order"][vc_column_text uncode_shortcode_
 id="187997"]Butterflies: Sun Lane NR\, ID Day/walk\nGood for a variety of s
 pecies. Meet 1pm Sun Lane Nature\nReserve\, SE157464. Bring binoculars if p
 ossible. Weatherdependent\; please contact leader: Nyree Fearnley 078110669
 71 ahead of time.\n\nPlease ensure you ring the Leader if planning to atten
 d and\ncancel explicitly if you need to to do so. Please car-share if\nposs
 ible. Meet at site at time stated. Bring lunch\, if desired.\nBring RSPB /Y
 WT card where appropriate. More details and directions from Leader. Visit t
 he Wharfedale Naturalists' website>[/vc_column_text][vc_empty_space empty_h
 ="1"][vc_row_inner row_inner_height_percent="0" overlay_alpha="50" equal_he
 ight="yes" gutter_size="4" shift_y="0"][vc_column_inner column_width_percen
 t="100" align_horizontal="align_center" gutter_size="2" overlay_alpha="50" 
 shift_x="0" shift_y="0" shift_y_down="0" z_index="0" medium_width="2" mobil
 e_width="0" width="1/3" uncode_shortcode_id="193926"][vc_icon icon="fa fa-m
 ap3" icon_color="accent" size="fa-3x" text_size="h4" linked_title="yes" ali
 gn="left" title="Meet" link="url:%23|||" uncode_shortcode_id="826685" icon_
 color_type="uncode-palette"]Sun Lane Nature Reserve[/vc_icon][/vc_column_in
 ner][vc_column_inner column_width_percent="100" align_horizontal="align_cen
 ter" gutter_size="2" overlay_alpha="50" shift_x="0" shift_y="0" shift_y_dow
 n="0" z_index="0" medium_width="2" mobile_width="0" width="1/3" uncode_shor
 tcode_id="151410"][vc_icon icon="fa fa-clock" icon_color="accent" size="fa-
 3x" text_size="h4" linked_title="yes" align="left" title="Time" link="url:%
 23|||" uncode_shortcode_id="886600" icon_color_type="uncode-palette"]1pm[/v
 c_icon][/vc_column_inner][vc_column_inner column_width_percent="100" align_
 horizontal="align_center" gutter_size="2" overlay_alpha="50" shift_x="0" sh
 ift_y="0" shift_y_down="0" z_index="0" medium_width="2" mobile_width="0" wi
 dth="1/3" uncode_shortcode_id="838225"][vc_icon icon="fa fa-info-circle" ic
 on_color="accent" size="fa-3x" text_size="h4" linked_title="yes" align="lef
 t" title="More info" link="url:%23|||" uncode_shortcode_id="150251" icon_co
 lor_type="uncode-palette"]Download PDF >[/vc_icon][/vc_column_inner][/vc_ro
 w_inner][/vc_column][/vc_row]
LOCATION:Online
DTSTAMP:20260421T054621Z
DTSTART:20240720T120000Z
DTEND:20260421T140000Z
END:VEVENT
END:VCALENDAR
