BEGIN:VCALENDAR
VERSION:2.0
PRODID:-//Eventin//Event Calendar//EN
CALSCALE:GREGORIAN
METHOD:PUBLISH
BEGIN:VEVENT
UID:826cbaa0e14f9f69b1193a2396c317d5@activeilkley.org.uk
SUMMARY:Nature Walk- Barden and Strid Wood - Wharfedale Naturalists’ Soci
 ety
DESCRIPTION:[vc_row row_height_percent="0" override_padding="yes" h_padding
 ="2" top_padding="0" bottom_padding="0" back_color="color-lxmt" overlay_alp
 ha="50" gutter_size="4" column_width_percent="100" shift_y="0" z_index="0" 
 uncode_shortcode_id="897096" back_color_type="uncode-palette"][vc_column co
 lumn_width_percent="100" gutter_size="3" overlay_alpha="50" shift_x="0" shi
 ft_y="0" shift_y_down="0" z_index="0" medium_width="4" mobile_width="0" wid
 th="1/1" el_class="inverted-device-order"][vc_column_text uncode_shortcode_
 id="585235"]Barden and Strid Wood.\n\nOur traditional first walk of the new
  Tuesday evening programme! Come and look for pied flycatchers\, redstarts\
 , dippers\, and more\, walking alongside the Wharfe into Strid Wood. Meet a
 t Barden Bridge SE052574.\nLeader: Ros Lilley - 07956 003498\n\nEasy walkin
 g\, experts on hand\; usually 2 – 3 miles maximum.\n\nPlease ensure you r
 ing the Leader if planning to attend and\ncancel explicitly if you need to 
 to do so. Please car-share if\npossible. Meet at site at time stated. More 
 details and directions from Leader. Visit the Wharfedale Naturalists' websi
 te>[/vc_column_text][vc_empty_space empty_h="1"][vc_row_inner row_inner_hei
 ght_percent="0" overlay_alpha="50" equal_height="yes" gutter_size="4" shift
 _y="0"][vc_column_inner column_width_percent="100" align_horizontal="align_
 center" gutter_size="2" overlay_alpha="50" shift_x="0" shift_y="0" shift_y_
 down="0" z_index="0" medium_width="2" mobile_width="0" width="1/3" uncode_s
 hortcode_id="193926"][vc_icon icon="fa fa-map3" icon_color="accent" size="f
 a-3x" text_size="h4" linked_title="yes" align="left" title="Meet" link="url
 :%23|||" uncode_shortcode_id="177937" icon_color_type="uncode-palette"]Bard
 en Bridge[/vc_icon][/vc_column_inner][vc_column_inner column_width_percent=
 "100" align_horizontal="align_center" gutter_size="2" overlay_alpha="50" sh
 ift_x="0" shift_y="0" shift_y_down="0" z_index="0" medium_width="2" mobile_
 width="0" width="1/3" uncode_shortcode_id="151410"][vc_icon icon="fa fa-clo
 ck" icon_color="accent" size="fa-3x" text_size="h4" linked_title="yes" alig
 n="left" title="Time" link="url:%23|||" uncode_shortcode_id="168832" icon_c
 olor_type="uncode-palette"]7pm[/vc_icon][/vc_column_inner][vc_column_inner 
 column_width_percent="100" align_horizontal="align_center" gutter_size="2" 
 overlay_alpha="50" shift_x="0" shift_y="0" shift_y_down="0" z_index="0" med
 ium_width="2" mobile_width="0" width="1/3" uncode_shortcode_id="838225"][vc
 _icon icon="fa fa-info-circle" icon_color="accent" size="fa-3x" text_size="
 h4" linked_title="yes" align="left" title="More info" link="url:%23|||" unc
 ode_shortcode_id="150251" icon_color_type="uncode-palette"]Download PDF >[/
 vc_icon][/vc_column_inner][/vc_row_inner][/vc_column][/vc_row]
LOCATION:Online
DTSTAMP:20260421T054500Z
DTSTART:20240507T180000Z
DTEND:20260421T200000Z
END:VEVENT
END:VCALENDAR
