BEGIN:VCALENDAR
VERSION:2.0
PRODID:-//Eventin//Event Calendar//EN
CALSCALE:GREGORIAN
METHOD:PUBLISH
BEGIN:VEVENT
UID:adf2bfee5ca5661f944633f25d87db22@activeilkley.org.uk
SUMMARY:Nature Walk- Urban Botanical Safari - Wharfedale Naturalists’ Soc
 iety
DESCRIPTION:[vc_row row_height_percent="0" override_padding="yes" h_padding
 ="2" top_padding="0" bottom_padding="0" back_color="color-lxmt" overlay_alp
 ha="50" gutter_size="4" column_width_percent="100" shift_y="0" z_index="0" 
 uncode_shortcode_id="897096" back_color_type="uncode-palette"][vc_column co
 lumn_width_percent="100" gutter_size="3" overlay_alpha="50" shift_x="0" shi
 ft_y="0" shift_y_down="0" z_index="0" medium_width="4" mobile_width="0" wid
 th="1/1" el_class="inverted-device-order"][vc_column_text uncode_shortcode_
 id="662810"]Urban Botanical Safari\nBe surprised at what you can find in th
 e cracks of the concrete and tarmac!\nMeet outside Ilkley Rail Station SE11
 7476\nLeader: Ian Brand –07854 888206\nFollowed by social drink at Bar T
 ’at for those who’d like to join.\n\nEasy walking\, experts on hand\; u
 sually 2 – 3 miles maximum.\n\nPlease ensure you ring the Leader if plann
 ing to attend and\ncancel explicitly if you need to to do so. Please car-sh
 are if\npossible. Meet at site at time stated. More details and directions 
 from Leader. Visit the Wharfedale Naturalists' website>[/vc_column_text][vc
 _empty_space empty_h="1"][vc_row_inner row_inner_height_percent="0" overlay
 _alpha="50" equal_height="yes" gutter_size="4" shift_y="0"][vc_column_inner
  column_width_percent="100" align_horizontal="align_center" gutter_size="2"
  overlay_alpha="50" shift_x="0" shift_y="0" shift_y_down="0" z_index="0" me
 dium_width="2" mobile_width="0" width="1/3" uncode_shortcode_id="193926"][v
 c_icon icon="fa fa-map3" icon_color="accent" size="fa-3x" text_size="h4" li
 nked_title="yes" align="left" title="Meet" link="url:%23|||" uncode_shortco
 de_id="855526" icon_color_type="uncode-palette"]Ilkley Rail Station[/vc_ico
 n][/vc_column_inner][vc_column_inner column_width_percent="100" align_horiz
 ontal="align_center" gutter_size="2" overlay_alpha="50" shift_x="0" shift_y
 ="0" shift_y_down="0" z_index="0" medium_width="2" mobile_width="0" width="
 1/3" uncode_shortcode_id="151410"][vc_icon icon="fa fa-clock" icon_color="a
 ccent" size="fa-3x" text_size="h4" linked_title="yes" align="left" title="T
 ime" link="url:%23|||" uncode_shortcode_id="168832" icon_color_type="uncode
 -palette"]7pm[/vc_icon][/vc_column_inner][vc_column_inner column_width_perc
 ent="100" align_horizontal="align_center" gutter_size="2" overlay_alpha="50
 " shift_x="0" shift_y="0" shift_y_down="0" z_index="0" medium_width="2" mob
 ile_width="0" width="1/3" uncode_shortcode_id="838225"][vc_icon icon="fa fa
 -info-circle" icon_color="accent" size="fa-3x" text_size="h4" linked_title=
 "yes" align="left" title="More info" link="url:%23|||" uncode_shortcode_id=
 "150251" icon_color_type="uncode-palette"]Download PDF >[/vc_icon][/vc_colu
 mn_inner][/vc_row_inner][/vc_column][/vc_row]
LOCATION:Online
DTSTAMP:20260421T054805Z
DTSTART:20240514T180000Z
DTEND:20260421T200000Z
END:VEVENT
END:VCALENDAR
