BEGIN:VCALENDAR
VERSION:2.0
PRODID:-//Eventin//Event Calendar//EN
CALSCALE:GREGORIAN
METHOD:PUBLISH
BEGIN:VEVENT
UID:a90530256c8b465948ab267f0da8b550@activeilkley.org.uk
SUMMARY:Nature Walk- Fewston Reservoir - Wharfedale Naturalists’ Society
DESCRIPTION:[vc_row row_height_percent="0" override_padding="yes" h_padding
 ="2" top_padding="0" bottom_padding="0" back_color="color-lxmt" overlay_alp
 ha="50" gutter_size="4" column_width_percent="100" shift_y="0" z_index="0" 
 uncode_shortcode_id="897096" back_color_type="uncode-palette"][vc_column co
 lumn_width_percent="100" gutter_size="3" overlay_alpha="50" shift_x="0" shi
 ft_y="0" shift_y_down="0" z_index="0" medium_width="4" mobile_width="0" wid
 th="1/1" el_class="inverted-device-order"][vc_column_text uncode_shortcode_
 id="117123"]Fewston Reservoir\nWalk through the wooded areas beside the sho
 re of Fewston Reservoir\, looking for plants\, trees and birds.\nMeet Swins
 ty Moor Car Park SE187537\nLeaders: Peter and Anne Riley - 01943 862916\n\n
 Easy walking\, experts on hand\; usually 2 – 3 miles maximum.\n\nPlease e
 nsure you ring the Leader if planning to attend and\ncancel explicitly if y
 ou need to to do so. Please car-share if\npossible. Meet at site at time st
 ated. More details and directions from Leader. Visit the Wharfedale Natural
 ists' website>[/vc_column_text][vc_empty_space empty_h="1"][vc_row_inner ro
 w_inner_height_percent="0" overlay_alpha="50" equal_height="yes" gutter_siz
 e="4" shift_y="0"][vc_column_inner column_width_percent="100" align_horizon
 tal="align_center" gutter_size="2" overlay_alpha="50" shift_x="0" shift_y="
 0" shift_y_down="0" z_index="0" medium_width="2" mobile_width="0" width="1/
 3" uncode_shortcode_id="193926"][vc_icon icon="fa fa-map3" icon_color="acce
 nt" size="fa-3x" text_size="h4" linked_title="yes" align="left" title="Meet
 " link="url:%23|||" uncode_shortcode_id="142964" icon_color_type="uncode-pa
 lette"]Swinsty Moor Car Park[/vc_icon][/vc_column_inner][vc_column_inner co
 lumn_width_percent="100" align_horizontal="align_center" gutter_size="2" ov
 erlay_alpha="50" shift_x="0" shift_y="0" shift_y_down="0" z_index="0" mediu
 m_width="2" mobile_width="0" width="1/3" uncode_shortcode_id="151410"][vc_i
 con icon="fa fa-clock" icon_color="accent" size="fa-3x" text_size="h4" link
 ed_title="yes" align="left" title="Time" link="url:%23|||" uncode_shortcode
 _id="168832" icon_color_type="uncode-palette"]7pm[/vc_icon][/vc_column_inne
 r][vc_column_inner column_width_percent="100" align_horizontal="align_cente
 r" gutter_size="2" overlay_alpha="50" shift_x="0" shift_y="0" shift_y_down=
 "0" z_index="0" medium_width="2" mobile_width="0" width="1/3" uncode_shortc
 ode_id="838225"][vc_icon icon="fa fa-info-circle" icon_color="accent" size=
 "fa-3x" text_size="h4" linked_title="yes" align="left" title="More info" li
 nk="url:%23|||" uncode_shortcode_id="150251" icon_color_type="uncode-palett
 e"]Download PDF >[/vc_icon][/vc_column_inner][/vc_row_inner][/vc_column][/v
 c_row]
LOCATION:Online
DTSTAMP:20260421T041447Z
DTSTART:20240528T180000Z
DTEND:20260421T200000Z
END:VEVENT
END:VCALENDAR
