BEGIN:VCALENDAR
VERSION:2.0
PRODID:-//Eventin//Event Calendar//EN
CALSCALE:GREGORIAN
METHOD:PUBLISH
BEGIN:VEVENT
UID:123af81537bcafdd25f53900415c34e5@activeilkley.org.uk
SUMMARY:Nature Walk- Wildlife of Denton Moor - Wharfedale Naturalists’ So
 ciety
DESCRIPTION:[vc_row row_height_percent="0" override_padding="yes" h_padding
 ="2" top_padding="0" bottom_padding="0" back_color="color-lxmt" overlay_alp
 ha="50" gutter_size="4" column_width_percent="100" shift_y="0" z_index="0" 
 uncode_shortcode_id="897096" back_color_type="uncode-palette"][vc_column co
 lumn_width_percent="100" gutter_size="3" overlay_alpha="50" shift_x="0" shi
 ft_y="0" shift_y_down="0" z_index="0" medium_width="4" mobile_width="0" wid
 th="1/1" el_class="inverted-device-order"][vc_column_text uncode_shortcode_
 id="211281"]Wildlife of Denton Moor\nA walk over Denton Moor in search of s
 ome of the wildlife to be found there. There may be a chance of long-eared 
 owls. Meet/park NE corner of Wild Wood\, SE154502. Drive to very end of Smi
 thy Lane\, Denton and then continue through gate\, turning right to follow 
 unmade track round to northeast corner of wood.\nLeader Andy Jowett: 07534 
 458112\n\nEasy walking\, experts on hand\; usually 2 – 3 miles maximum.\n
 \nPlease ensure you ring the Leader if planning to attend and\ncancel expli
 citly if you need to to do so. Please car-share if\npossible. Meet at site 
 at time stated. More details and directions from Leader. Visit the Wharfeda
 le Naturalists' website>[/vc_column_text][vc_empty_space empty_h="1"][vc_ro
 w_inner row_inner_height_percent="0" overlay_alpha="50" equal_height="yes" 
 gutter_size="4" shift_y="0"][vc_column_inner column_width_percent="100" ali
 gn_horizontal="align_center" gutter_size="2" overlay_alpha="50" shift_x="0"
  shift_y="0" shift_y_down="0" z_index="0" medium_width="2" mobile_width="0"
  width="1/3" uncode_shortcode_id="193926"][vc_icon icon="fa fa-map3" icon_c
 olor="accent" size="fa-3x" text_size="h4" linked_title="yes" align="left" t
 itle="Meet" link="url:%23|||" uncode_shortcode_id="146668" icon_color_type=
 "uncode-palette"]NE corner of Wild Wood[/vc_icon][/vc_column_inner][vc_colu
 mn_inner column_width_percent="100" align_horizontal="align_center" gutter_
 size="2" overlay_alpha="50" shift_x="0" shift_y="0" shift_y_down="0" z_inde
 x="0" medium_width="2" mobile_width="0" width="1/3" uncode_shortcode_id="15
 1410"][vc_icon icon="fa fa-clock" icon_color="accent" size="fa-3x" text_siz
 e="h4" linked_title="yes" align="left" title="Time" link="url:%23|||" uncod
 e_shortcode_id="168832" icon_color_type="uncode-palette"]7pm[/vc_icon][/vc_
 column_inner][vc_column_inner column_width_percent="100" align_horizontal="
 align_center" gutter_size="2" overlay_alpha="50" shift_x="0" shift_y="0" sh
 ift_y_down="0" z_index="0" medium_width="2" mobile_width="0" width="1/3" un
 code_shortcode_id="838225"][vc_icon icon="fa fa-info-circle" icon_color="ac
 cent" size="fa-3x" text_size="h4" linked_title="yes" align="left" title="Mo
 re info" link="url:%23|||" uncode_shortcode_id="150251" icon_color_type="un
 code-palette"]Download PDF >[/vc_icon][/vc_column_inner][/vc_row_inner][/vc
 _column][/vc_row]
LOCATION:Online
DTSTAMP:20260421T041453Z
DTSTART:20240618T180000Z
DTEND:20260421T200000Z
END:VEVENT
END:VCALENDAR
