BEGIN:VCALENDAR
VERSION:2.0
PRODID:-//Eventin//Event Calendar//EN
CALSCALE:GREGORIAN
METHOD:PUBLISH
BEGIN:VEVENT
UID:048ecb5a0d07c7dacf8a3552d44dcb4e@activeilkley.org.uk
SUMMARY:Friendly Nature Walk- Wildlife of Addingham - Wharfedale Naturalist
 s’ Society
DESCRIPTION:[vc_row row_height_percent="0" override_padding="yes" h_padding
 ="2" top_padding="0" bottom_padding="0" back_color="color-lxmt" overlay_alp
 ha="50" gutter_size="4" column_width_percent="100" shift_y="0" z_index="0" 
 uncode_shortcode_id="897096" back_color_type="uncode-palette"][vc_column co
 lumn_width_percent="100" gutter_size="3" overlay_alpha="50" shift_x="0" shi
 ft_y="0" shift_y_down="0" z_index="0" medium_width="4" mobile_width="0" wid
 th="1/1" el_class="inverted-device-order"][vc_column_text uncode_shortcode_
 id="145454"]Wildlife –friendly Addingham\nA guided walk around village 'w
 ild' spaces with Addingham Environment Group\, followed by a social drink a
 t The Swan. Meet/park at The Swan ( SE07624983)\, return for a drink at 9pm
  (and an optional saunter down to the River Wharfe for bat watching at dusk
 ).\nLeaders: Jan Hindle 07821 467214 and Rick Battarbee\n\nEasy walking\, e
 xperts on hand\; usually 2 – 3 miles maximum.\n\nPlease ensure you ring t
 he Leader if planning to attend and\ncancel explicitly if you need to to do
  so. Please car-share if\npossible. Meet at site at time stated. More detai
 ls and directions from Leader. Visit the Wharfedale Naturalists' website>[/
 vc_column_text][vc_empty_space empty_h="1"][vc_row_inner row_inner_height_p
 ercent="0" overlay_alpha="50" equal_height="yes" gutter_size="4" shift_y="0
 "][vc_column_inner column_width_percent="100" align_horizontal="align_cente
 r" gutter_size="2" overlay_alpha="50" shift_x="0" shift_y="0" shift_y_down=
 "0" z_index="0" medium_width="2" mobile_width="0" width="1/3" uncode_shortc
 ode_id="193926"][vc_icon icon="fa fa-map3" icon_color="accent" size="fa-3x"
  text_size="h4" linked_title="yes" align="left" title="Meet" link="url:%23|
 ||" uncode_shortcode_id="684995" icon_color_type="uncode-palette"]The Swan 
 car park\, Addingham[/vc_icon][/vc_column_inner][vc_column_inner column_wid
 th_percent="100" align_horizontal="align_center" gutter_size="2" overlay_al
 pha="50" shift_x="0" shift_y="0" shift_y_down="0" z_index="0" medium_width=
 "2" mobile_width="0" width="1/3" uncode_shortcode_id="151410"][vc_icon icon
 ="fa fa-clock" icon_color="accent" size="fa-3x" text_size="h4" linked_title
 ="yes" align="left" title="Time" link="url:%23|||" uncode_shortcode_id="168
 832" icon_color_type="uncode-palette"]7pm[/vc_icon][/vc_column_inner][vc_co
 lumn_inner column_width_percent="100" align_horizontal="align_center" gutte
 r_size="2" overlay_alpha="50" shift_x="0" shift_y="0" shift_y_down="0" z_in
 dex="0" medium_width="2" mobile_width="0" width="1/3" uncode_shortcode_id="
 838225"][vc_icon icon="fa fa-info-circle" icon_color="accent" size="fa-3x" 
 text_size="h4" linked_title="yes" align="left" title="More info" link="url:
 %23|||" uncode_shortcode_id="150251" icon_color_type="uncode-palette"]Downl
 oad PDF >[/vc_icon][/vc_column_inner][/vc_row_inner][/vc_column][/vc_row]
LOCATION:Online
DTSTAMP:20260421T041531Z
DTSTART:20240625T180000Z
DTEND:20260421T200000Z
END:VEVENT
END:VCALENDAR
