BEGIN:VCALENDAR
VERSION:2.0
PRODID:-//Eventin//Event Calendar//EN
CALSCALE:GREGORIAN
METHOD:PUBLISH
BEGIN:VEVENT
UID:f7dc06635f74cdb3a652b22ce1dbb646@activeilkley.org.uk
SUMMARY:Nature Walk- Barn Owl Walk - Wharfedale Naturalists’ Society
DESCRIPTION:[vc_row row_height_percent="0" override_padding="yes" h_padding
 ="2" top_padding="0" bottom_padding="0" back_color="color-lxmt" overlay_alp
 ha="50" gutter_size="4" column_width_percent="100" shift_y="0" z_index="0" 
 uncode_shortcode_id="897096" back_color_type="uncode-palette"][vc_column co
 lumn_width_percent="100" gutter_size="3" overlay_alpha="50" shift_x="0" shi
 ft_y="0" shift_y_down="0" z_index="0" medium_width="4" mobile_width="0" wid
 th="1/1" el_class="inverted-device-order"][vc_column_text uncode_shortcode_
 id="189213"]Barn Owl Walk (weather dependent– detailed arrangements will 
 be firmed up nearer the event by email) Meeting/parking place to be arrange
 d nearer the time in light of nesting info.\nLeader Stewart Barlow 07970 11
 6407\n\nEasy walking\, experts on hand\; usually 2 – 3 miles maximum.\n\n
 Please ensure you ring the Leader if planning to attend and\ncancel explici
 tly if you need to to do so. Please car-share if\npossible. Meet at site at
  time stated. More details and directions from Leader. Visit the Wharfedale
  Naturalists' website>[/vc_column_text][vc_empty_space empty_h="1"][vc_row_
 inner row_inner_height_percent="0" overlay_alpha="50" equal_height="yes" gu
 tter_size="4" shift_y="0"][vc_column_inner column_width_percent="100" align
 _horizontal="align_center" gutter_size="2" overlay_alpha="50" shift_x="0" s
 hift_y="0" shift_y_down="0" z_index="0" medium_width="2" mobile_width="0" w
 idth="1/3" uncode_shortcode_id="193926"][vc_icon icon="fa fa-map3" icon_col
 or="accent" size="fa-3x" text_size="h4" linked_title="yes" align="left" tit
 le="Meet" link="url:%23|||" uncode_shortcode_id="192616" icon_color_type="u
 ncode-palette"]TBC[/vc_icon][/vc_column_inner][vc_column_inner column_width
 _percent="100" align_horizontal="align_center" gutter_size="2" overlay_alph
 a="50" shift_x="0" shift_y="0" shift_y_down="0" z_index="0" medium_width="2
 " mobile_width="0" width="1/3" uncode_shortcode_id="151410"][vc_icon icon="
 fa fa-clock" icon_color="accent" size="fa-3x" text_size="h4" linked_title="
 yes" align="left" title="Time" link="url:%23|||" uncode_shortcode_id="16883
 2" icon_color_type="uncode-palette"]7pm[/vc_icon][/vc_column_inner][vc_colu
 mn_inner column_width_percent="100" align_horizontal="align_center" gutter_
 size="2" overlay_alpha="50" shift_x="0" shift_y="0" shift_y_down="0" z_inde
 x="0" medium_width="2" mobile_width="0" width="1/3" uncode_shortcode_id="83
 8225"][vc_icon icon="fa fa-info-circle" icon_color="accent" size="fa-3x" te
 xt_size="h4" linked_title="yes" align="left" title="More info" link="url:%2
 3|||" uncode_shortcode_id="150251" icon_color_type="uncode-palette"]Downloa
 d PDF >[/vc_icon][/vc_column_inner][/vc_row_inner][/vc_column][/vc_row]
LOCATION:Online
DTSTAMP:20260421T041453Z
DTSTART:20240702T180000Z
DTEND:20260421T200000Z
END:VEVENT
END:VCALENDAR
