BEGIN:VCALENDAR
VERSION:2.0
PRODID:-//Eventin//Event Calendar//EN
CALSCALE:GREGORIAN
METHOD:PUBLISH
BEGIN:VEVENT
UID:b8e7c95031dcc5927b5b3501c0d24d47@activeilkley.org.uk
SUMMARY:Botany- Rougemont Carr bluebells - Wharfedale Naturalists’ Societ
 y
DESCRIPTION:[vc_row row_height_percent="0" override_padding="yes" h_padding
 ="2" top_padding="0" bottom_padding="0" back_color="color-lxmt" overlay_alp
 ha="50" gutter_size="4" column_width_percent="100" shift_y="0" z_index="0" 
 uncode_shortcode_id="897096" back_color_type="uncode-palette"][vc_column co
 lumn_width_percent="100" gutter_size="3" overlay_alpha="50" shift_x="0" shi
 ft_y="0" shift_y_down="0" z_index="0" medium_width="4" mobile_width="0" wid
 th="1/1" el_class="inverted-device-order"][vc_column_text uncode_shortcode_
 id="102323"]Rougemont Carr (bluebells!)\nMeet 10am Weeton Church CP (donati
 on) SE284465\nLeader: Sarah Ward\n\nPlease car-share if possible - ring Bru
 ce\, or meet at venue. Bring packed lunch. Boots /wellies usually advisable
 . More details/directions from Bruce - 01943 467519.\n\nPlease ensure you r
 ing the Leader if planning to attend and\ncancel explicitly if you need to 
 to do so. Please car-share if\npossible. Meet at site at time stated. Bring
  lunch is desired. More details and directions from Leader. Visit the Wharf
 edale Naturalists' website>[/vc_column_text][vc_empty_space empty_h="1"][vc
 _row_inner row_inner_height_percent="0" overlay_alpha="50" equal_height="ye
 s" gutter_size="4" shift_y="0"][vc_column_inner column_width_percent="100" 
 align_horizontal="align_center" gutter_size="2" overlay_alpha="50" shift_x=
 "0" shift_y="0" shift_y_down="0" z_index="0" medium_width="2" mobile_width=
 "0" width="1/3" uncode_shortcode_id="193926"][vc_icon icon="fa fa-map3" ico
 n_color="accent" size="fa-3x" text_size="h4" linked_title="yes" align="left
 " title="Meet" link="url:%23|||" uncode_shortcode_id="199453" icon_color_ty
 pe="uncode-palette"]Weeton Church[/vc_icon][/vc_column_inner][vc_column_inn
 er column_width_percent="100" align_horizontal="align_center" gutter_size="
 2" overlay_alpha="50" shift_x="0" shift_y="0" shift_y_down="0" z_index="0" 
 medium_width="2" mobile_width="0" width="1/3" uncode_shortcode_id="151410"]
 [vc_icon icon="fa fa-clock" icon_color="accent" size="fa-3x" text_size="h4"
  linked_title="yes" align="left" title="Time" link="url:%23|||" uncode_shor
 tcode_id="152889" icon_color_type="uncode-palette"]10am[/vc_icon][/vc_colum
 n_inner][vc_column_inner column_width_percent="100" align_horizontal="align
 _center" gutter_size="2" overlay_alpha="50" shift_x="0" shift_y="0" shift_y
 _down="0" z_index="0" medium_width="2" mobile_width="0" width="1/3" uncode_
 shortcode_id="838225"][vc_icon icon="fa fa-info-circle" icon_color="accent"
  size="fa-3x" text_size="h4" linked_title="yes" align="left" title="More in
 fo" link="url:%23|||" uncode_shortcode_id="150251" icon_color_type="uncode-
 palette"]Download PDF >[/vc_icon][/vc_column_inner][/vc_row_inner][/vc_colu
 mn][/vc_row]
LOCATION:Online
DTSTAMP:20260421T041412Z
DTSTART:20240502T090000Z
DTEND:20260421T110000Z
END:VEVENT
END:VCALENDAR
