BEGIN:VCALENDAR
VERSION:2.0
PRODID:-//Eventin//Event Calendar//EN
CALSCALE:GREGORIAN
METHOD:PUBLISH
BEGIN:VEVENT
UID:60e84dbe334933e9c9857326d3e5475d@activeilkley.org.uk
SUMMARY:Botany- Bolton Abbey Estate - Wharfedale Naturalists’ Society
DESCRIPTION:[vc_row row_height_percent="0" override_padding="yes" h_padding
 ="2" top_padding="0" bottom_padding="0" back_color="color-lxmt" overlay_alp
 ha="50" gutter_size="4" column_width_percent="100" shift_y="0" z_index="0" 
 uncode_shortcode_id="897096" back_color_type="uncode-palette"][vc_column co
 lumn_width_percent="100" gutter_size="3" overlay_alpha="50" shift_x="0" shi
 ft_y="0" shift_y_down="0" z_index="0" medium_width="4" mobile_width="0" wid
 th="1/1" el_class="inverted-device-order"][vc_column_text uncode_shortcode_
 id="156081"]Bolton Abbey Estate - Blands Beck Survey (near\nAppletreewick)\
 nMeet 10am Howgill Campsite SE064593\nLeader: Bruce Brown\n\nPlease car-sha
 re if possible - ring Bruce\, or meet at venue. Bring packed lunch. Boots /
 wellies usually advisable. More details/directions from Bruce - 01943 46751
 9.\n\nPlease ensure you ring the Leader if planning to attend and\ncancel e
 xplicitly if you need to to do so. Please car-share if\npossible. Meet at s
 ite at time stated. Bring lunch is desired. More details and directions fro
 m Leader. Visit the Wharfedale Naturalists' website>[/vc_column_text][vc_em
 pty_space empty_h="1"][vc_row_inner row_inner_height_percent="0" overlay_al
 pha="50" equal_height="yes" gutter_size="4" shift_y="0"][vc_column_inner co
 lumn_width_percent="100" align_horizontal="align_center" gutter_size="2" ov
 erlay_alpha="50" shift_x="0" shift_y="0" shift_y_down="0" z_index="0" mediu
 m_width="2" mobile_width="0" width="1/3" uncode_shortcode_id="193926"][vc_i
 con icon="fa fa-map3" icon_color="accent" size="fa-3x" text_size="h4" linke
 d_title="yes" align="left" title="Meet" link="url:%23|||" uncode_shortcode_
 id="192418" icon_color_type="uncode-palette"]Howgill Campsite[/vc_icon][/vc
 _column_inner][vc_column_inner column_width_percent="100" align_horizontal=
 "align_center" gutter_size="2" overlay_alpha="50" shift_x="0" shift_y="0" s
 hift_y_down="0" z_index="0" medium_width="2" mobile_width="0" width="1/3" u
 ncode_shortcode_id="151410"][vc_icon icon="fa fa-clock" icon_color="accent"
  size="fa-3x" text_size="h4" linked_title="yes" align="left" title="Time" l
 ink="url:%23|||" uncode_shortcode_id="152889" icon_color_type="uncode-palet
 te"]10am[/vc_icon][/vc_column_inner][vc_column_inner column_width_percent="
 100" align_horizontal="align_center" gutter_size="2" overlay_alpha="50" shi
 ft_x="0" shift_y="0" shift_y_down="0" z_index="0" medium_width="2" mobile_w
 idth="0" width="1/3" uncode_shortcode_id="838225"][vc_icon icon="fa fa-info
 -circle" icon_color="accent" size="fa-3x" text_size="h4" linked_title="yes"
  align="left" title="More info" link="url:%23|||" uncode_shortcode_id="1502
 51" icon_color_type="uncode-palette"]Download PDF >[/vc_icon][/vc_column_in
 ner][/vc_row_inner][/vc_column][/vc_row]
LOCATION:Online
DTSTAMP:20260421T043953Z
DTSTART:20240516T090000Z
DTEND:20260421T110000Z
END:VEVENT
END:VCALENDAR
