BEGIN:VCALENDAR
VERSION:2.0
PRODID:-//Eventin//Event Calendar//EN
CALSCALE:GREGORIAN
METHOD:PUBLISH
BEGIN:VEVENT
UID:980749e271e19ae5450547a01664c010@activeilkley.org.uk
SUMMARY:Botany- Threshfield and Linton - Wharfedale Naturalists’ Society
DESCRIPTION:[vc_row row_height_percent="0" override_padding="yes" h_padding
 ="2" top_padding="0" bottom_padding="0" back_color="color-lxmt" overlay_alp
 ha="50" gutter_size="4" column_width_percent="100" shift_y="0" z_index="0" 
 uncode_shortcode_id="897096" back_color_type="uncode-palette"][vc_column co
 lumn_width_percent="100" gutter_size="3" overlay_alpha="50" shift_x="0" shi
 ft_y="0" shift_y_down="0" z_index="0" medium_width="4" mobile_width="0" wid
 th="1/1" el_class="inverted-device-order"][vc_column_text uncode_shortcode_
 id="144983"]Threshfield and Linton\nMeet 10am Linton Falls CP (pay) SE00263
 2\nLeader: Bruce Brown\n\nPlease car-share if possible - ring Bruce\, or me
 et at venue. Bring packed lunch. Boots /wellies usually advisable. More det
 ails/directions from Bruce - 01943 467519.\n\nPlease ensure you ring the Le
 ader if planning to attend and\ncancel explicitly if you need to to do so. 
 Please car-share if\npossible. Meet at site at time stated. Bring lunch is 
 desired. More details and directions from Leader. Visit the Wharfedale Natu
 ralists' website>[/vc_column_text][vc_empty_space empty_h="1"][vc_row_inner
  row_inner_height_percent="0" overlay_alpha="50" equal_height="yes" gutter_
 size="4" shift_y="0"][vc_column_inner column_width_percent="100" align_hori
 zontal="align_center" gutter_size="2" overlay_alpha="50" shift_x="0" shift_
 y="0" shift_y_down="0" z_index="0" medium_width="2" mobile_width="0" width=
 "1/3" uncode_shortcode_id="193926"][vc_icon icon="fa fa-map3" icon_color="a
 ccent" size="fa-3x" text_size="h4" linked_title="yes" align="left" title="M
 eet" link="url:%23|||" uncode_shortcode_id="135391" icon_color_type="uncode
 -palette"]Linton Falls[/vc_icon][/vc_column_inner][vc_column_inner column_w
 idth_percent="100" align_horizontal="align_center" gutter_size="2" overlay_
 alpha="50" shift_x="0" shift_y="0" shift_y_down="0" z_index="0" medium_widt
 h="2" mobile_width="0" width="1/3" uncode_shortcode_id="151410"][vc_icon ic
 on="fa fa-clock" icon_color="accent" size="fa-3x" text_size="h4" linked_tit
 le="yes" align="left" title="Time" link="url:%23|||" uncode_shortcode_id="1
 52889" icon_color_type="uncode-palette"]10am[/vc_icon][/vc_column_inner][vc
 _column_inner column_width_percent="100" align_horizontal="align_center" gu
 tter_size="2" overlay_alpha="50" shift_x="0" shift_y="0" shift_y_down="0" z
 _index="0" medium_width="2" mobile_width="0" width="1/3" uncode_shortcode_i
 d="838225"][vc_icon icon="fa fa-info-circle" icon_color="accent" size="fa-3
 x" text_size="h4" linked_title="yes" align="left" title="More info" link="u
 rl:%23|||" uncode_shortcode_id="150251" icon_color_type="uncode-palette"]Do
 wnload PDF >[/vc_icon][/vc_column_inner][/vc_row_inner][/vc_column][/vc_row
 ]
LOCATION:Online
DTSTAMP:20260421T041407Z
DTSTART:20240606T090000Z
DTEND:20260421T110000Z
END:VEVENT
END:VCALENDAR
