BEGIN:VCALENDAR
VERSION:2.0
PRODID:-//Eventin//Event Calendar//EN
CALSCALE:GREGORIAN
METHOD:PUBLISH
BEGIN:VEVENT
UID:4decd52c7b585708ba66aa10dd7f615f@activeilkley.org.uk
SUMMARY:Botany- Litton\, Crystal Beck - Wharfedale Naturalists’ Society
DESCRIPTION:[vc_row row_height_percent="0" override_padding="yes" h_padding
 ="2" top_padding="0" bottom_padding="0" back_color="color-lxmt" overlay_alp
 ha="50" gutter_size="4" column_width_percent="100" shift_y="0" z_index="0" 
 uncode_shortcode_id="897096" back_color_type="uncode-palette"][vc_column co
 lumn_width_percent="100" gutter_size="3" overlay_alpha="50" shift_x="0" shi
 ft_y="0" shift_y_down="0" z_index="0" medium_width="4" mobile_width="0" wid
 th="1/1" el_class="inverted-device-order"][vc_column_text uncode_shortcode_
 id="102074"]Litton\, Crystal Beck\nMeet 10.15am\, roadside in Litton SD9067
 41\nLeader Carmen Horner\n\nPlease car-share if possible - ring Bruce\, or 
 meet at venue. Bring packed lunch. Boots /wellies usually advisable. More d
 etails/directions from Bruce - 01943 467519.\n\nPlease ensure you ring the 
 Leader if planning to attend and\ncancel explicitly if you need to to do so
 . Please car-share if\npossible. Meet at site at time stated. Bring lunch i
 s desired. More details and directions from Leader. Visit the Wharfedale Na
 turalists' website>[/vc_column_text][vc_empty_space empty_h="1"][vc_row_inn
 er row_inner_height_percent="0" overlay_alpha="50" equal_height="yes" gutte
 r_size="4" shift_y="0"][vc_column_inner column_width_percent="100" align_ho
 rizontal="align_center" gutter_size="2" overlay_alpha="50" shift_x="0" shif
 t_y="0" shift_y_down="0" z_index="0" medium_width="2" mobile_width="0" widt
 h="1/3" uncode_shortcode_id="193926"][vc_icon icon="fa fa-map3" icon_color=
 "accent" size="fa-3x" text_size="h4" linked_title="yes" align="left" title=
 "Meet" link="url:%23|||" uncode_shortcode_id="163189" icon_color_type="unco
 de-palette"]Litton[/vc_icon][/vc_column_inner][vc_column_inner column_width
 _percent="100" align_horizontal="align_center" gutter_size="2" overlay_alph
 a="50" shift_x="0" shift_y="0" shift_y_down="0" z_index="0" medium_width="2
 " mobile_width="0" width="1/3" uncode_shortcode_id="151410"][vc_icon icon="
 fa fa-clock" icon_color="accent" size="fa-3x" text_size="h4" linked_title="
 yes" align="left" title="Time" link="url:%23|||" uncode_shortcode_id="11641
 9" icon_color_type="uncode-palette"]10:15am[/vc_icon][/vc_column_inner][vc_
 column_inner column_width_percent="100" align_horizontal="align_center" gut
 ter_size="2" overlay_alpha="50" shift_x="0" shift_y="0" shift_y_down="0" z_
 index="0" medium_width="2" mobile_width="0" width="1/3" uncode_shortcode_id
 ="838225"][vc_icon icon="fa fa-info-circle" icon_color="accent" size="fa-3x
 " text_size="h4" linked_title="yes" align="left" title="More info" link="ur
 l:%23|||" uncode_shortcode_id="150251" icon_color_type="uncode-palette"]Dow
 nload PDF >[/vc_icon][/vc_column_inner][/vc_row_inner][/vc_column][/vc_row]
LOCATION:Online
DTSTAMP:20260421T044157Z
DTSTART:20240704T091500Z
DTEND:20260421T111500Z
END:VEVENT
END:VCALENDAR
