BEGIN:VCALENDAR
VERSION:2.0
PRODID:-//Eventin//Event Calendar//EN
CALSCALE:GREGORIAN
METHOD:PUBLISH
BEGIN:VEVENT
UID:d9ced9a590607a7bf83fda88e66f64eb@activeilkley.org.uk
SUMMARY:Botany- Long Preston - Wharfedale Naturalists’ Society
DESCRIPTION:[vc_row row_height_percent="0" override_padding="yes" h_padding
 ="2" top_padding="0" bottom_padding="0" back_color="color-lxmt" overlay_alp
 ha="50" gutter_size="4" column_width_percent="100" shift_y="0" z_index="0" 
 uncode_shortcode_id="897096" back_color_type="uncode-palette"][vc_column co
 lumn_width_percent="100" gutter_size="3" overlay_alpha="50" shift_x="0" shi
 ft_y="0" shift_y_down="0" z_index="0" medium_width="4" mobile_width="0" wid
 th="1/1" el_class="inverted-device-order"][vc_column_text uncode_shortcode_
 id="201446"]Long Preston circular walk\nMeet 10.30am\, park on layby\, A65 
 by T-junction with A682\, on outskirts of Long Preston SD837578\nLeader Hea
 ther Burrow\n\nPlease car-share if possible - ring Bruce\, or meet at venue
 . Bring packed lunch. Boots /wellies usually advisable. More details/direct
 ions from Bruce - 01943 467519.\n\nPlease ensure you ring the Leader if pla
 nning to attend and\ncancel explicitly if you need to to do so. Please car-
 share if\npossible. Meet at site at time stated. Bring lunch is desired. Mo
 re details and directions from Leader. Visit the Wharfedale Naturalists' we
 bsite>[/vc_column_text][vc_empty_space empty_h="1"][vc_row_inner row_inner_
 height_percent="0" overlay_alpha="50" equal_height="yes" gutter_size="4" sh
 ift_y="0"][vc_column_inner column_width_percent="100" align_horizontal="ali
 gn_center" gutter_size="2" overlay_alpha="50" shift_x="0" shift_y="0" shift
 _y_down="0" z_index="0" medium_width="2" mobile_width="0" width="1/3" uncod
 e_shortcode_id="193926"][vc_icon icon="fa fa-map3" icon_color="accent" size
 ="fa-3x" text_size="h4" linked_title="yes" align="left" title="Meet" link="
 url:%23|||" uncode_shortcode_id="152578" icon_color_type="uncode-palette"]L
 ong Preston[/vc_icon][/vc_column_inner][vc_column_inner column_width_percen
 t="100" align_horizontal="align_center" gutter_size="2" overlay_alpha="50" 
 shift_x="0" shift_y="0" shift_y_down="0" z_index="0" medium_width="2" mobil
 e_width="0" width="1/3" uncode_shortcode_id="151410"][vc_icon icon="fa fa-c
 lock" icon_color="accent" size="fa-3x" text_size="h4" linked_title="yes" al
 ign="left" title="Time" link="url:%23|||" uncode_shortcode_id="202234" icon
 _color_type="uncode-palette"]10:30am[/vc_icon][/vc_column_inner][vc_column_
 inner column_width_percent="100" align_horizontal="align_center" gutter_siz
 e="2" overlay_alpha="50" shift_x="0" shift_y="0" shift_y_down="0" z_index="
 0" medium_width="2" mobile_width="0" width="1/3" uncode_shortcode_id="83822
 5"][vc_icon icon="fa fa-info-circle" icon_color="accent" size="fa-3x" text_
 size="h4" linked_title="yes" align="left" title="More info" link="url:%23||
 |" uncode_shortcode_id="150251" icon_color_type="uncode-palette"]Download P
 DF >[/vc_icon][/vc_column_inner][/vc_row_inner][/vc_column][/vc_row]
LOCATION:Online
DTSTAMP:20260421T041412Z
DTSTART:20240711T093000Z
DTEND:20260421T113000Z
END:VEVENT
END:VCALENDAR
