BEGIN:VCALENDAR
VERSION:2.0
PRODID:-//Eventin//Event Calendar//EN
CALSCALE:GREGORIAN
METHOD:PUBLISH
BEGIN:VEVENT
UID:59af14880a6436234e0574a427347a20@activeilkley.org.uk
SUMMARY:Botany- Denton Moor - Wharfedale Naturalists’ Society
DESCRIPTION:[vc_row row_height_percent="0" override_padding="yes" h_padding
 ="2" top_padding="0" bottom_padding="0" back_color="color-lxmt" overlay_alp
 ha="50" gutter_size="4" column_width_percent="100" shift_y="0" z_index="0" 
 uncode_shortcode_id="897096" back_color_type="uncode-palette"][vc_column co
 lumn_width_percent="100" gutter_size="3" overlay_alpha="50" shift_x="0" shi
 ft_y="0" shift_y_down="0" z_index="0" medium_width="4" mobile_width="0" wid
 th="1/1" el_class="inverted-device-order"][vc_column_text uncode_shortcode_
 id="437567"]Denton Moor\, Dearncomb survey\nMeet 10am Moorside Farm\, park 
 in yard SE141503\nLeader: Sue Stevens\n\nPlease car-share if possible - rin
 g Bruce\, or meet at venue. Bring packed lunch. Boots /wellies usually advi
 sable. More details/directions from Bruce - 01943 467519.\n\nPlease ensure 
 you ring the Leader if planning to attend and\ncancel explicitly if you nee
 d to to do so. Please car-share if\npossible. Meet at site at time stated. 
 Bring lunch is desired. More details and directions from Leader. Visit the 
 Wharfedale Naturalists' website>[/vc_column_text][vc_empty_space empty_h="1
 "][vc_row_inner row_inner_height_percent="0" overlay_alpha="50" equal_heigh
 t="yes" gutter_size="4" shift_y="0"][vc_column_inner column_width_percent="
 100" align_horizontal="align_center" gutter_size="2" overlay_alpha="50" shi
 ft_x="0" shift_y="0" shift_y_down="0" z_index="0" medium_width="2" mobile_w
 idth="0" width="1/3" uncode_shortcode_id="193926"][vc_icon icon="fa fa-map3
 " icon_color="accent" size="fa-3x" text_size="h4" linked_title="yes" align=
 "left" title="Meet" link="url:%23|||" uncode_shortcode_id="203433" icon_col
 or_type="uncode-palette"]Moorside farm[/vc_icon][/vc_column_inner][vc_colum
 n_inner column_width_percent="100" align_horizontal="align_center" gutter_s
 ize="2" overlay_alpha="50" shift_x="0" shift_y="0" shift_y_down="0" z_index
 ="0" medium_width="2" mobile_width="0" width="1/3" uncode_shortcode_id="151
 410"][vc_icon icon="fa fa-clock" icon_color="accent" size="fa-3x" text_size
 ="h4" linked_title="yes" align="left" title="Time" link="url:%23|||" uncode
 _shortcode_id="152642" icon_color_type="uncode-palette"]10am[/vc_icon][/vc_
 column_inner][vc_column_inner column_width_percent="100" align_horizontal="
 align_center" gutter_size="2" overlay_alpha="50" shift_x="0" shift_y="0" sh
 ift_y_down="0" z_index="0" medium_width="2" mobile_width="0" width="1/3" un
 code_shortcode_id="838225"][vc_icon icon="fa fa-info-circle" icon_color="ac
 cent" size="fa-3x" text_size="h4" linked_title="yes" align="left" title="Mo
 re info" link="url:%23|||" uncode_shortcode_id="150251" icon_color_type="un
 code-palette"]Download PDF >[/vc_icon][/vc_column_inner][/vc_row_inner][/vc
 _column][/vc_row]
LOCATION:Online
DTSTAMP:20260421T041447Z
DTSTART:20240808T090000Z
DTEND:20260421T110000Z
END:VEVENT
END:VCALENDAR
