BEGIN:VCALENDAR
VERSION:2.0
PRODID:-//Eventin//Event Calendar//EN
CALSCALE:GREGORIAN
METHOD:PUBLISH
BEGIN:VEVENT
UID:2c478b1640c46d754d8f7c3109b74c68@activeilkley.org.uk
SUMMARY:Botany- Buckden - Wharfedale Naturalists’ Society
DESCRIPTION:[vc_row row_height_percent="0" override_padding="yes" h_padding
 ="2" top_padding="0" bottom_padding="0" back_color="color-lxmt" overlay_alp
 ha="50" gutter_size="4" column_width_percent="100" shift_y="0" z_index="0" 
 uncode_shortcode_id="897096" back_color_type="uncode-palette"][vc_column co
 lumn_width_percent="100" gutter_size="3" overlay_alpha="50" shift_x="0" shi
 ft_y="0" shift_y_down="0" z_index="0" medium_width="4" mobile_width="0" wid
 th="1/1" el_class="inverted-device-order"][vc_column_text uncode_shortcode_
 id="411055"]Buckden\nMeet 10.30am in main CP (pay) SD942773\nJoint meeting 
 with Bradford Botany Group\nLeader: Bruce Brown\n\nPlease car-share if poss
 ible - ring Bruce\, or meet at venue. Bring packed lunch. Boots /wellies us
 ually advisable. More details/directions from Bruce - 01943 467519.\n\nPlea
 se ensure you ring the Leader if planning to attend and\ncancel explicitly 
 if you need to to do so. Please car-share if\npossible. Meet at site at tim
 e stated. Bring lunch is desired. More details and directions from Leader. 
 Visit the Wharfedale Naturalists' website>[/vc_column_text][vc_empty_space 
 empty_h="1"][vc_row_inner row_inner_height_percent="0" overlay_alpha="50" e
 qual_height="yes" gutter_size="4" shift_y="0"][vc_column_inner column_width
 _percent="100" align_horizontal="align_center" gutter_size="2" overlay_alph
 a="50" shift_x="0" shift_y="0" shift_y_down="0" z_index="0" medium_width="2
 " mobile_width="0" width="1/3" uncode_shortcode_id="193926"][vc_icon icon="
 fa fa-map3" icon_color="accent" size="fa-3x" text_size="h4" linked_title="y
 es" align="left" title="Meet" link="url:%23|||" uncode_shortcode_id="145743
 " icon_color_type="uncode-palette"]Buckden car park[/vc_icon][/vc_column_in
 ner][vc_column_inner column_width_percent="100" align_horizontal="align_cen
 ter" gutter_size="2" overlay_alpha="50" shift_x="0" shift_y="0" shift_y_dow
 n="0" z_index="0" medium_width="2" mobile_width="0" width="1/3" uncode_shor
 tcode_id="151410"][vc_icon icon="fa fa-clock" icon_color="accent" size="fa-
 3x" text_size="h4" linked_title="yes" align="left" title="Time" link="url:%
 23|||" uncode_shortcode_id="152837" icon_color_type="uncode-palette"]10:30a
 m[/vc_icon][/vc_column_inner][vc_column_inner column_width_percent="100" al
 ign_horizontal="align_center" gutter_size="2" overlay_alpha="50" shift_x="0
 " shift_y="0" shift_y_down="0" z_index="0" medium_width="2" mobile_width="0
 " width="1/3" uncode_shortcode_id="838225"][vc_icon icon="fa fa-info-circle
 " icon_color="accent" size="fa-3x" text_size="h4" linked_title="yes" align=
 "left" title="More info" link="url:%23|||" uncode_shortcode_id="150251" ico
 n_color_type="uncode-palette"]Download PDF >[/vc_icon][/vc_column_inner][/v
 c_row_inner][/vc_column][/vc_row]
LOCATION:Online
DTSTAMP:20260421T041407Z
DTSTART:20240815T093000Z
DTEND:20260421T113000Z
END:VEVENT
END:VCALENDAR
