BEGIN:VCALENDAR
VERSION:2.0
PRODID:-//Eventin//Event Calendar//EN
CALSCALE:GREGORIAN
METHOD:PUBLISH
BEGIN:VEVENT
UID:0243d3eebeb563fb3941b12a88dc8b0e@activeilkley.org.uk
SUMMARY:A stroll on Ilkley Moor - Friends of Ilkley Moor
DESCRIPTION:[vc_row row_height_percent="0" override_padding="yes" h_padding
 ="2" top_padding="0" bottom_padding="0" back_color="color-lxmt" overlay_alp
 ha="50" gutter_size="4" column_width_percent="100" shift_y="0" z_index="0" 
 uncode_shortcode_id="897096" back_color_type="uncode-palette"][vc_column co
 lumn_width_percent="100" gutter_size="3" overlay_alpha="50" shift_x="0" shi
 ft_y="0" shift_y_down="0" z_index="0" medium_width="4" mobile_width="0" wid
 th="1/1" el_class="inverted-device-order"][vc_column_text uncode_shortcode_
 id="188442"]Discover the beauty and special heritage of Ilkley Moor. This w
 alk is perfect for those who are new to walking\, people with push chairs o
 r wheelchairs\, or people who just want a gentle stroll and take in the mag
 nificent views. An easy walk of 1.5 miles on flat\, sometimes slightly slop
 ing paths.\n\n\nEvent leader: Tracy Gray\n\n\n\n\nWalking Grade: Easy\n\n\n
 \n\nDogs: Welcome on the lead\n\n\n\n\nMeeting Point: Darwin Gardens car pa
 rk\n\n\n\n\nBooking: Contact Tracy Gray on tracy@ilkleymoor.org / 07780 535
 860\n\nMore info visit their website here>\n\n\n[/vc_column_text][vc_empty_
 space empty_h="1"][vc_row_inner row_inner_height_percent="0" overlay_alpha=
 "50" equal_height="yes" gutter_size="4" shift_y="0"][vc_column_inner column
 _width_percent="100" align_horizontal="align_center" gutter_size="2" overla
 y_alpha="50" shift_x="0" shift_y="0" shift_y_down="0" z_index="0" medium_wi
 dth="2" mobile_width="0" width="1/3" uncode_shortcode_id="193926"][vc_icon 
 icon="fa fa-map3" icon_color="accent" size="fa-3x" text_size="h4" linked_ti
 tle="yes" align="left" title="Meet" link="url:%23|||" uncode_shortcode_id="
 589211" icon_color_type="uncode-palette"]Darwin Gardens car park[/vc_icon][
 /vc_column_inner][vc_column_inner column_width_percent="100" align_horizont
 al="align_center" gutter_size="2" overlay_alpha="50" shift_x="0" shift_y="0
 " shift_y_down="0" z_index="0" medium_width="2" mobile_width="0" width="1/3
 " uncode_shortcode_id="151410"][vc_icon icon="fa fa-clock" icon_color="acce
 nt" size="fa-3x" text_size="h4" linked_title="yes" align="left" title="Time
 " link="url:%23|||" uncode_shortcode_id="395292" icon_color_type="uncode-pa
 lette"]2-4pm[/vc_icon][/vc_column_inner][vc_column_inner column_width_perce
 nt="100" align_horizontal="align_center" gutter_size="2" overlay_alpha="50"
  shift_x="0" shift_y="0" shift_y_down="0" z_index="0" medium_width="2" mobi
 le_width="0" width="1/3" uncode_shortcode_id="838225"][vc_icon icon="fa fa-
 info-circle" icon_color="accent" size="fa-3x" text_size="h4" linked_title="
 yes" align="left" title="More info" link="url:%23|||" uncode_shortcode_id="
 127852" icon_color_type="uncode-palette"]Visit website >[/vc_icon][/vc_colu
 mn_inner][/vc_row_inner][/vc_column][/vc_row]
LOCATION:Online
DTSTAMP:20260421T025804Z
DTSTART:20240413T130000Z
DTEND:20260421T150000Z
END:VEVENT
END:VCALENDAR
