BEGIN:VCALENDAR
VERSION:2.0
PRODID:-//Eventin//Event Calendar//EN
CALSCALE:GREGORIAN
METHOD:PUBLISH
BEGIN:VEVENT
UID:a8c3b65caf1ad56618483093344b86d9@activeilkley.org.uk
SUMMARY:Dales Way Working Party- Burley Walkers are Welcome
DESCRIPTION:[vc_row row_height_percent="0" override_padding="yes" h_padding
 ="2" top_padding="0" bottom_padding="0" back_color="color-lxmt" overlay_alp
 ha="50" gutter_size="4" column_width_percent="100" shift_y="0" z_index="0" 
 uncode_shortcode_id="897096" back_color_type="uncode-palette"][vc_column co
 lumn_width_percent="100" gutter_size="3" overlay_alpha="50" shift_x="0" shi
 ft_y="0" shift_y_down="0" z_index="0" medium_width="4" mobile_width="0" wid
 th="1/1" el_class="inverted-device-order"][vc_column_text uncode_shortcode_
 id="176174"]\n\n\nAnyone who has walked the Dales Way from Addingham to Bol
 ton Abbey will know how potentially hazardous the short section of road-wal
 king can be as you approach Bolton Bridge.  Burley resident Colin Speakman
 \, chair of the Dales Way Association\, approached Walkers are Welcome to a
 sk if we could help to make a permissive path to take walkers off the roa
 d and into the adjoining woodland.  As a result we have organised a wor
 king party on Thursday June 20 to make a new footpath.  \n\n\n\nGet in t
 ouch if you would like to help with this project to improve safety along a 
 section of this iconic national trail which Colin helped to create 55 years
  ago: burelywalkersarewelcome@gmail.com\n\n\n\n\n \n\n\n[/vc_column_text][
 vc_empty_space empty_h="1"][vc_row_inner row_inner_height_percent="0" overl
 ay_alpha="50" equal_height="yes" gutter_size="4" shift_y="0"][vc_column_inn
 er column_width_percent="100" align_horizontal="align_center" gutter_size="
 2" overlay_alpha="50" shift_x="0" shift_y="0" shift_y_down="0" z_index="0" 
 medium_width="2" mobile_width="0" width="1/3" uncode_shortcode_id="193926"]
 [vc_icon icon="fa fa-map3" icon_color="accent" size="fa-3x" text_size="h4" 
 linked_title="yes" align="left" title="Meet" link="url:%23|||" uncode_short
 code_id="257073" icon_color_type="uncode-palette"]Bolton Bridge[/vc_icon][/
 vc_column_inner][vc_column_inner column_width_percent="100" align_horizonta
 l="align_center" gutter_size="2" overlay_alpha="50" shift_x="0" shift_y="0"
  shift_y_down="0" z_index="0" medium_width="2" mobile_width="0" width="1/3"
  uncode_shortcode_id="151410"][vc_icon icon="fa fa-clock" icon_color="accen
 t" size="fa-3x" text_size="h4" linked_title="yes" align="left" title="Time"
  link="url:%23|||" uncode_shortcode_id="145720" icon_color_type="uncode-pal
 ette"]Contact Burley Walkers are Welcome for details[/vc_icon][/vc_column_i
 nner][vc_column_inner column_width_percent="100" align_horizontal="align_ce
 nter" gutter_size="2" overlay_alpha="50" shift_x="0" shift_y="0" shift_y_do
 wn="0" z_index="0" medium_width="2" mobile_width="0" width="1/3" uncode_sho
 rtcode_id="838225"][vc_icon icon="fa fa-info-circle" icon_color="accent" si
 ze="fa-3x" text_size="h4" linked_title="yes" align="left" title="More info"
  link="url:%23|||" uncode_shortcode_id="130678" icon_color_type="uncode-pal
 ette"]Visit website >[/vc_icon][/vc_column_inner][/vc_row_inner][/vc_column
 ][/vc_row]
LOCATION:Online
DTSTAMP:20260420T195552Z
DTSTART:20240619T230000Z
DTEND:20260420T195552Z
END:VEVENT
END:VCALENDAR
