BEGIN:VCALENDAR
VERSION:2.0
PRODID:-//Eventin//Event Calendar//EN
CALSCALE:GREGORIAN
METHOD:PUBLISH
BEGIN:VEVENT
UID:75fe8b9ea67c44acb7e851b018b89c8f@activeilkley.org.uk
SUMMARY:The Yorkshire Dales Strollers
DESCRIPTION:
LOCATION:Online
DTSTAMP:20260422T125520Z
DTSTART:20240519T090000Z
DTEND:20260422T160000Z
END:VEVENT
END:VCALENDAR
